BEGIN:VCALENDAR
VERSION:2.0
PRODID:-//California Force Instructors&#039; Association - ECPv6.15.20//NONSGML v1.0//EN
CALSCALE:GREGORIAN
METHOD:PUBLISH
X-WR-CALNAME:California Force Instructors&#039; Association
X-ORIGINAL-URL:https://calfia.org
X-WR-CALDESC:Events for California Force Instructors&#039; Association
REFRESH-INTERVAL;VALUE=DURATION:PT1H
X-Robots-Tag:noindex
X-PUBLISHED-TTL:PT1H
BEGIN:VTIMEZONE
TZID:America/Denver
BEGIN:DAYLIGHT
TZOFFSETFROM:-0700
TZOFFSETTO:-0600
TZNAME:MDT
DTSTART:20230312T090000
END:DAYLIGHT
BEGIN:STANDARD
TZOFFSETFROM:-0600
TZOFFSETTO:-0700
TZNAME:MST
DTSTART:20231105T080000
END:STANDARD
BEGIN:DAYLIGHT
TZOFFSETFROM:-0700
TZOFFSETTO:-0600
TZNAME:MDT
DTSTART:20240310T090000
END:DAYLIGHT
BEGIN:STANDARD
TZOFFSETFROM:-0600
TZOFFSETTO:-0700
TZNAME:MST
DTSTART:20241103T080000
END:STANDARD
BEGIN:DAYLIGHT
TZOFFSETFROM:-0700
TZOFFSETTO:-0600
TZNAME:MDT
DTSTART:20250309T090000
END:DAYLIGHT
BEGIN:STANDARD
TZOFFSETFROM:-0600
TZOFFSETTO:-0700
TZNAME:MST
DTSTART:20251102T080000
END:STANDARD
END:VTIMEZONE
BEGIN:VEVENT
DTSTART;TZID=America/Denver:20241202T080000
DTEND;TZID=America/Denver:20241202T170000
DTSTAMP:20260420T172723
CREATED:20240927T094956Z
LAST-MODIFIED:20240927T094956Z
UID:10000597-1733126400-1733158800@calfia.org
SUMMARY:Savage Training Group: Effective Police Training
DESCRIPTION:
URL:https://calfia.org/event/savage-training-group-effective-police-training-3/
LOCATION:Mahany/Martha Riley Library\, 1501 Pleasant Grove Blvd\, Roseville\, CA\, 95747\, United States
END:VEVENT
BEGIN:VEVENT
DTSTART;TZID=America/Denver:20241121T103000
DTEND;TZID=America/Denver:20241121T143000
DTSTAMP:20260420T172723
CREATED:20241030T213728Z
LAST-MODIFIED:20241030T213728Z
UID:10000613-1732185000-1732199400@calfia.org
SUMMARY:Peacekeeper Products Open House
DESCRIPTION:
URL:https://calfia.org/event/peacekeeper-products-open-house/
LOCATION:Peacekeeper Products International\, 2409 Dean Street\, Sacramento\, CA\, 95652\, United States
END:VEVENT
BEGIN:VEVENT
DTSTART;TZID=America/Denver:20241118T080000
DTEND;TZID=America/Denver:20241118T170000
DTSTAMP:20260420T172723
CREATED:20240927T100109Z
LAST-MODIFIED:20240927T100109Z
UID:10000602-1731916800-1731949200@calfia.org
SUMMARY:Savage Training Group: Response to the Non-Criminal Barricade: Disengagement & Special Relationships
DESCRIPTION:
URL:https://calfia.org/event/savage-training-group-response-to-the-non-criminal-barricade-disengagement-special-relationships/
LOCATION:High Intensity Drug Trafficking Areas HQ\, 9665 Granite Ridge Drive suite 100\, San Diego\, CA\, 92123\, United States
END:VEVENT
BEGIN:VEVENT
DTSTART;TZID=America/Denver:20241115T080000
DTEND;TZID=America/Denver:20241115T170000
DTSTAMP:20260420T172723
CREATED:20241013T201724Z
LAST-MODIFIED:20241013T201724Z
UID:10000607-1731657600-1731690000@calfia.org
SUMMARY:Use of Force and De-escalation from David Demurjian
DESCRIPTION:
URL:https://calfia.org/event/use-of-force-and-de-escalation-from-david-demurjian-2/
LOCATION:Warfinger Building and Eureka Public Marina\, 1 Marina Way\, Eureka\, CA\, 95501\, United States
END:VEVENT
BEGIN:VEVENT
DTSTART;TZID=America/Denver:20241113T080000
DTEND;TZID=America/Denver:20241113T170000
DTSTAMP:20260420T172723
CREATED:20241013T201515Z
LAST-MODIFIED:20241013T201515Z
UID:10000606-1731484800-1731517200@calfia.org
SUMMARY:Use of Force and De-escalation from David Demurjian
DESCRIPTION:
URL:https://calfia.org/event/use-of-force-and-de-escalation-from-david-demurjian/
LOCATION:Ben Clark Training Center\, 16791 Davis Avenue\, Riverside\, CA\, 92518\, United States
END:VEVENT
BEGIN:VEVENT
DTSTART;TZID=America/Denver:20241107T080000
DTEND;TZID=America/Denver:20241108T170000
DTSTAMP:20260420T172723
CREATED:20240927T092113Z
LAST-MODIFIED:20240927T092315Z
UID:10000594-1730966400-1731085200@calfia.org
SUMMARY:Peacekeeper Products Expandable Baton Instructor Course
DESCRIPTION:
URL:https://calfia.org/event/peacekeeper-products-expandable-baton-instructor-course/
LOCATION:Los Angeles County Sheriff’s Office\, 11515 Colima Road\, Whittier\, CA\, 90604\, United States
END:VEVENT
BEGIN:VEVENT
DTSTART;TZID=America/Denver:20241105T080000
DTEND;TZID=America/Denver:20241105T170000
DTSTAMP:20260420T172723
CREATED:20241022T215227Z
LAST-MODIFIED:20241022T215227Z
UID:10000608-1730793600-1730826000@calfia.org
SUMMARY:Gang Awareness Basic Criminal Street Gang Operations
DESCRIPTION:Screenshot
URL:https://calfia.org/event/gang-awareness-basic-criminal-street-gang-operations/
LOCATION:South Gate Park Auditorium\, 4900 Southern Avenue\, South Gate\, CA\, 90280\, United States
END:VEVENT
BEGIN:VEVENT
DTSTART;TZID=America/Denver:20241102T123000
DTEND;TZID=America/Denver:20241102T143000
DTSTAMP:20260420T172723
CREATED:20240927T072813Z
LAST-MODIFIED:20240927T072813Z
UID:10000593-1730550600-1730557800@calfia.org
SUMMARY:Judo for Military & Law Enforcement Workshop
DESCRIPTION:
URL:https://calfia.org/event/judo-for-military-law-enforcement-workshop/
LOCATION:10th Planet Jiu Jitsu San Diego\, 6008 Mission George RD\, San Diego\, CA\, 92120\, United States
ORGANIZER;CN="OTX Tactics":MAILTO:otxtactics@gmail.com
END:VEVENT
BEGIN:VEVENT
DTSTART;TZID=America/Denver:20241028T080000
DTEND;TZID=America/Denver:20241028T170000
DTSTAMP:20260420T172723
CREATED:20240927T100616Z
LAST-MODIFIED:20240927T100616Z
UID:10000604-1730102400-1730134800@calfia.org
SUMMARY:Savage Training Group: Response to the Non-Criminal Barricade: Disengagement & Special Relationships
DESCRIPTION:
URL:https://calfia.org/event/savage-training-group-response-to-the-non-criminal-barricade-disengagement-special-relationships-3/
LOCATION:Rocklin Police Department\, 4080 Rocklin Road\, Rocklin\, CA\, 95677\, United States
END:VEVENT
BEGIN:VEVENT
DTSTART;TZID=America/Denver:20241021T080000
DTEND;TZID=America/Denver:20241021T170000
DTSTAMP:20260420T172723
CREATED:20240927T095230Z
LAST-MODIFIED:20240927T095230Z
UID:10000598-1729497600-1729530000@calfia.org
SUMMARY:Savage Training Group: Patrol Survival Tactics
DESCRIPTION:
URL:https://calfia.org/event/savage-training-group-patrol-survival-tactics-2/
LOCATION:Las Colinas Detention and Reentry Facility\, 451 Riverview Parkway\, Santee\, CA\, 92071\, United States
END:VEVENT
BEGIN:VEVENT
DTSTART;TZID=America/Denver:20241014T080000
DTEND;TZID=America/Denver:20241014T170000
DTSTAMP:20260420T172723
CREATED:20240401T095355Z
LAST-MODIFIED:20240401T095355Z
UID:10000579-1728892800-1728925200@calfia.org
SUMMARY:Effective Police Training from Savage Training Group
DESCRIPTION:
URL:https://calfia.org/event/effective-police-training-from-savage-training-group/
LOCATION:Napa Sheriff’s Office\, 1535 Airport Blvd\, Napa\, CA\, 94558\, United States
END:VEVENT
BEGIN:VEVENT
DTSTART;TZID=America/Denver:20241011T080000
DTEND;TZID=America/Denver:20241011T170000
DTSTAMP:20260420T172723
CREATED:20240927T100312Z
LAST-MODIFIED:20240927T100312Z
UID:10000603-1728633600-1728666000@calfia.org
SUMMARY:Savage Training Group: Response to the Non-Criminal Barricade: Disengagement & Special Relationships
DESCRIPTION:
URL:https://calfia.org/event/savage-training-group-response-to-the-non-criminal-barricade-disengagement-special-relationships-2/
LOCATION:Milpitas Police Department\, 1275 N. Milpitas Blvd\, Milpitas\, CA\, 95035\, United States
END:VEVENT
BEGIN:VEVENT
DTSTART;TZID=America/Denver:20241007T080000
DTEND;TZID=America/Denver:20241009T170000
DTSTAMP:20260420T172723
CREATED:20240927T095432Z
LAST-MODIFIED:20240927T095432Z
UID:10000599-1728288000-1728493200@calfia.org
SUMMARY:Savage Training Group: Supervisor's Seminar
DESCRIPTION:
URL:https://calfia.org/event/savage-training-group-supervisors-seminar/
LOCATION:Santa Clara Police Department
END:VEVENT
BEGIN:VEVENT
DTSTART;TZID=America/Denver:20241001T080000
DTEND;TZID=America/Denver:20241001T170000
DTSTAMP:20260420T172723
CREATED:20240927T095658Z
LAST-MODIFIED:20240927T095658Z
UID:10000600-1727769600-1727802000@calfia.org
SUMMARY:Savage Training Group: Use of Force Analysis for Law Enforcement Managers
DESCRIPTION:
URL:https://calfia.org/event/savage-training-group-use-of-force-analysis-for-law-enforcement-managers/
LOCATION:Stanislaus County Regional Training Division\, 3800 Cornucopia Way\, Modesto\, CA\, 95358\, United States
END:VEVENT
BEGIN:VEVENT
DTSTART;TZID=America/Denver:20240930T080000
DTEND;TZID=America/Denver:20240930T170000
DTSTAMP:20260420T172723
CREATED:20240927T094753Z
LAST-MODIFIED:20240927T094753Z
UID:10000596-1727683200-1727715600@calfia.org
SUMMARY:Savage Training Group: Effective Police Training
DESCRIPTION:
URL:https://calfia.org/event/savage-training-group-effective-police-training-2/
LOCATION:Livermore City Hall Mendenhall Room\, 1016 S. Livermore Ave\, Livermore\, CA\, 94550\, United States
END:VEVENT
BEGIN:VEVENT
DTSTART;TZID=America/Denver:20240925T080000
DTEND;TZID=America/Denver:20240927T170000
DTSTAMP:20260420T172723
CREATED:20240730T110317Z
LAST-MODIFIED:20240730T110317Z
UID:10000590-1727251200-1727456400@calfia.org
SUMMARY:ASP Instructor Training
DESCRIPTION:
URL:https://calfia.org/event/asp-instructor-training/
LOCATION:The Range & Police Science Institute\, 5133 N Gates AVE\, STE 102\, Fresno\, CA\, 93722\, United States
END:VEVENT
BEGIN:VEVENT
DTSTART;TZID=America/Denver:20240923T083000
DTEND;TZID=America/Denver:20241027T170000
DTSTAMP:20260420T172723
CREATED:20240820T122552Z
LAST-MODIFIED:20240820T122552Z
UID:10000592-1727080200-1730048400@calfia.org
SUMMARY:Defensive Tactics Instructor Training Program
DESCRIPTION:Screenshot
URL:https://calfia.org/event/defensive-tactics-instructor-training-program/
LOCATION:Missouri State Highway Patrol\, 1510 East Elm Street\, Jefferson City\, CA\, 65102\, United States
ORGANIZER;CN="Tour Protection":MAILTO:info@tourprotection.com
END:VEVENT
BEGIN:VEVENT
DTSTART;TZID=America/Denver:20240911T090000
DTEND;TZID=America/Denver:20240911T103000
DTSTAMP:20260420T172723
CREATED:20240722T114148Z
LAST-MODIFIED:20240722T114148Z
UID:10000589-1726045200-1726050600@calfia.org
SUMMARY:Introduction to Artificial Intelligence (AI) for Public Safety Trainers\, Educators\, and Instructional Designers
DESCRIPTION:
URL:https://calfia.org/event/introduction-to-artificial-intelligence-ai-for-public-safety-trainers-educators-and-instructional-designers-2/
LOCATION:Online
END:VEVENT
BEGIN:VEVENT
DTSTART;TZID=America/Denver:20240911T090000
DTEND;TZID=America/Denver:20240911T103000
DTSTAMP:20260420T172723
CREATED:20240710T115531Z
LAST-MODIFIED:20240710T115531Z
UID:10000586-1726045200-1726050600@calfia.org
SUMMARY:Introduction to Artificial Intelligence (AI) for Public Safety Trainers\, Educators\, and Instructional Designers
DESCRIPTION:
URL:https://calfia.org/event/introduction-to-artificial-intelligence-ai-for-public-safety-trainers-educators-and-instructional-designers/
LOCATION:Webinar
END:VEVENT
BEGIN:VEVENT
DTSTART;TZID=America/Denver:20240905T080000
DTEND;TZID=America/Denver:20240906T170000
DTSTAMP:20260420T172723
CREATED:20240320T115024Z
LAST-MODIFIED:20240320T115102Z
UID:10000576-1725523200-1725642000@calfia.org
SUMMARY:Use of Force / Liability Litigation with CALFIA General Council David Demurjian!
DESCRIPTION:
URL:https://calfia.org/event/use-of-force-liability-litigation-with-calfia-general-council-david-demurjian/
LOCATION:Walnut Creek Police Department\, 1666 N. Main Street\, Walnut Creek\, CA\, 94596\, United States
END:VEVENT
BEGIN:VEVENT
DTSTART;TZID=America/Denver:20240826T080000
DTEND;TZID=America/Denver:20240827T170000
DTSTAMP:20260420T172723
CREATED:20240731T104052Z
LAST-MODIFIED:20240731T104052Z
UID:10000591-1724659200-1724778000@calfia.org
SUMMARY:The Foundation: A 2-Day Course for Leaders to Forge Elite Teams & Healthy Families 08/26-08/27 in Santa Clara
DESCRIPTION:
URL:https://calfia.org/event/the-foundation-a-2-day-course-for-leaders-to-forge-elite-teams-healthy-families-08-26-08-27-in-santa-clara/
LOCATION:Santa Clara Fire Department\, 1900 Walsh Avenue\, Santa Clara\, CA\, 95050\, United States
END:VEVENT
BEGIN:VEVENT
DTSTART;TZID=America/Denver:20240814T080000
DTEND;TZID=America/Denver:20240816T170000
DTSTAMP:20260420T172723
CREATED:20240320T124219Z
LAST-MODIFIED:20240702T122301Z
UID:10000578-1723622400-1723827600@calfia.org
SUMMARY:CALFIA 2024 Use of Force Symposium
DESCRIPTION:
URL:https://calfia.org/event/calfia-2024-use-of-force-symposiu/
LOCATION:Santa Ana College\, 1530 W 17th Street\, Santa Ana\, CA\, 92706\, United States
ORGANIZER;CN="CALFIA":MAILTO:Calfia31@gmail.com
END:VEVENT
BEGIN:VEVENT
DTSTART;TZID=America/Denver:20240810T090000
DTEND;TZID=America/Denver:20240810T160000
DTSTAMP:20260420T172723
CREATED:20240702T121138Z
LAST-MODIFIED:20240702T121138Z
UID:10000584-1723280400-1723305600@calfia.org
SUMMARY:Tony Blauer’s Be Your Own Bodyguard class in Petaluma\, Ca - 08/10/2024
DESCRIPTION:
URL:https://calfia.org/event/tony-blauers-be-your-own-bodyguard-class-in-petaluma-ca-08-10-2024/
LOCATION:Petaluma Healthcare District\, 1425 North McDowell Suite 100\, Petaluma\, CA\, 94954\, United States
ORGANIZER;CN="BlauerSpear":MAILTO:www.BlauerSpear.com
END:VEVENT
BEGIN:VEVENT
DTSTART;TZID=America/Denver:20240731T080000
DTEND;TZID=America/Denver:20240731T130000
DTSTAMP:20260420T172723
CREATED:20240701T113954Z
LAST-MODIFIED:20240701T113954Z
UID:10000583-1722412800-1722430800@calfia.org
SUMMARY:2024 Review of Campus Protest Encampments
DESCRIPTION:
URL:https://calfia.org/event/2024-review-of-campus-protest-encampments/
LOCATION:Glendale Community College\, 1500 N. Verdugo Rd\, Glendale\, CA\, 91208\, United States
END:VEVENT
BEGIN:VEVENT
DTSTART;TZID=America/Denver:20240731T070000
DTEND;TZID=America/Denver:20240731T180000
DTSTAMP:20260420T172723
CREATED:20240617T115807Z
LAST-MODIFIED:20240702T121431Z
UID:10000582-1722409200-1722448800@calfia.org
SUMMARY:Controlling Force
DESCRIPTION:
URL:https://calfia.org/event/controlling-force/
LOCATION:Santa Ana Police Department\, 60 Civic Center Plaza\, Santa Ana\, CA\, 92701\, United States
END:VEVENT
BEGIN:VEVENT
DTSTART;TZID=America/Denver:20240726T080000
DTEND;TZID=America/Denver:20240726T170000
DTSTAMP:20260420T172723
CREATED:20240722T111416Z
LAST-MODIFIED:20240722T111416Z
UID:10000587-1721980800-1722013200@calfia.org
SUMMARY:How to Testify in Court...HOw to Write The Report
DESCRIPTION:
URL:https://calfia.org/event/how-to-testify-in-court-how-to-write-the-report/
LOCATION:Wharfinger Building\, 1 Marina Way\, Eureka\, CA\, 95501\, United States
END:VEVENT
BEGIN:VEVENT
DTSTART;TZID=America/Denver:20240702T100000
DTEND;TZID=America/Denver:20240702T110000
DTSTAMP:20260420T172723
CREATED:20240702T121544Z
LAST-MODIFIED:20240702T121544Z
UID:10000585-1719914400-1719918000@calfia.org
SUMMARY:SAVAGE Training Group Presents: Next-Gen Learning for Law Enforcement Harnessing Neuroscience and Generative AI. FREE!!!!
DESCRIPTION:July 12th\, 1000-1100PST \nNo cost  \n  \n \nAn online presentation from a world-renowned expert in learning\, Dr. Barbara Oakley \nRegistration restricted to current and retired law enforcement officers and other law enforcement agency affiliated staff. \nRegister at https://us02web.zoom.us/meeting/register/tZUvcumtpzspGdVOQdq-Ue_lsuLkMAyJk3dR \nThe Savage Training Group is proud to host Dr. Barbara Oakley for this unique online presentation on the future of law enforcement training. \nIn this insightful presentation\, Dr. Barbara Oakley will explore the evolving relationship between neuroscience and generative artificial intelligence\, and the implications for more effective police instruction and training. By unraveling how the human brain processes information and learns\, alongside the capabilities of innovative generative AI systems\, Dr. Oakley will offer a thought-provoking perspective on optimizing training programs for law enforcement. Discover practical\, neuroscience-driven strategies for leveraging generative AI technologies to enhance knowledge retention\, skill development\, and overall training outcomes for police personnel. Whether you’re an experienced instructor or department leader\, this presentation will provide valuable insights on blending human cognitive insights with the latest advancements in artificial intelligence. The goal is to equip attendees with a deeper understanding of how the brain functions\, and tangible approaches for applying these principles – together with generative AI – to elevate police education and professional development.
URL:https://calfia.org/event/savage-training-group-presents-next-gen-learning-for-law-enforcement-harnessing-neuroscience-and-generative-ai-free/
LOCATION:CA
END:VEVENT
BEGIN:VEVENT
DTSTART;TZID=America/Denver:20240630T130000
DTEND;TZID=America/Denver:20240630T153000
DTSTAMP:20260420T172723
CREATED:20240617T115434Z
LAST-MODIFIED:20240617T115434Z
UID:10000581-1719752400-1719761400@calfia.org
SUMMARY:OTX Tactics vehicle extraction workshop
DESCRIPTION:
URL:https://calfia.org/event/otx-tactics-vehicle-extraction-workshop/
LOCATION:Gold Standard Athletics\, 9471 Richmond Place\, Rancho Cucamonga\, CA\, 91730\, United States
ORGANIZER;CN="OTX Tactics":MAILTO:otxtactics@gmail.com
END:VEVENT
BEGIN:VEVENT
DTSTART;TZID=America/Denver:20240617T080000
DTEND;TZID=America/Denver:20240628T170000
DTSTAMP:20260420T172723
CREATED:20240416T122025Z
LAST-MODIFIED:20240416T122025Z
UID:10000580-1718611200-1719594000@calfia.org
SUMMARY:Arrest and Control Instructor Course at the Napa Valley College
DESCRIPTION:
URL:https://calfia.org/event/arrest-and-control-instructor-course-at-the-napa-valley-college/
LOCATION:Napa Valley College\, 2277 Napa Vallejo Hwy.\, Napa\, CA\, 94558\, United States
END:VEVENT
BEGIN:VEVENT
DTSTART;TZID=America/Denver:20240617T080000
DTEND;TZID=America/Denver:20240620T180000
DTSTAMP:20260420T172723
CREATED:20240128T225251Z
LAST-MODIFIED:20240128T225251Z
UID:10000562-1718611200-1718906400@calfia.org
SUMMARY:EFC Instructors Certification Course
DESCRIPTION:
URL:https://calfia.org/event/efc-instructors-certification-course/
LOCATION:Corona Police Department\, 730 Public Safety Way\, Corona\, CA\, 92882\, United States
END:VEVENT
END:VCALENDAR