BEGIN:VCALENDAR
VERSION:2.0
PRODID:-//California Force Instructors&#039; Association - ECPv6.15.20//NONSGML v1.0//EN
CALSCALE:GREGORIAN
METHOD:PUBLISH
X-WR-CALNAME:California Force Instructors&#039; Association
X-ORIGINAL-URL:https://calfia.org
X-WR-CALDESC:Events for California Force Instructors&#039; Association
REFRESH-INTERVAL;VALUE=DURATION:PT1H
X-Robots-Tag:noindex
X-PUBLISHED-TTL:PT1H
BEGIN:VTIMEZONE
TZID:America/Denver
BEGIN:DAYLIGHT
TZOFFSETFROM:-0700
TZOFFSETTO:-0600
TZNAME:MDT
DTSTART:20240310T090000
END:DAYLIGHT
BEGIN:STANDARD
TZOFFSETFROM:-0600
TZOFFSETTO:-0700
TZNAME:MST
DTSTART:20241103T080000
END:STANDARD
BEGIN:DAYLIGHT
TZOFFSETFROM:-0700
TZOFFSETTO:-0600
TZNAME:MDT
DTSTART:20250309T090000
END:DAYLIGHT
BEGIN:STANDARD
TZOFFSETFROM:-0600
TZOFFSETTO:-0700
TZNAME:MST
DTSTART:20251102T080000
END:STANDARD
BEGIN:DAYLIGHT
TZOFFSETFROM:-0700
TZOFFSETTO:-0600
TZNAME:MDT
DTSTART:20260308T090000
END:DAYLIGHT
BEGIN:STANDARD
TZOFFSETFROM:-0600
TZOFFSETTO:-0700
TZNAME:MST
DTSTART:20261101T080000
END:STANDARD
END:VTIMEZONE
BEGIN:VEVENT
DTSTART;TZID=America/Denver:20251006T080000
DTEND;TZID=America/Denver:20251006T170000
DTSTAMP:20260420T065403
CREATED:20250909T120042Z
LAST-MODIFIED:20250909T120042Z
UID:10001188-1759737600-1759770000@calfia.org
SUMMARY:CATO Training Active Shooter Symposium
DESCRIPTION:
URL:https://calfia.org/event/cato-training-active-shooter-symposium/
LOCATION:Bayside Church\, 10000 Alantown Dr\, Roseville\, CA\, 95678\, United States
END:VEVENT
BEGIN:VEVENT
DTSTART;TZID=America/Denver:20251002T080000
DTEND;TZID=America/Denver:20251003T170000
DTSTAMP:20260420T065403
CREATED:20250507T051541Z
LAST-MODIFIED:20250507T051555Z
UID:10000636-1759392000-1759510800@calfia.org
SUMMARY:Free Use of Force Report Writing and Testifying Class with David Demurjian\, CALFIA General Counsel
DESCRIPTION:
URL:https://calfia.org/event/free-use-of-force-report-writing-and-testifying-class-with-david-demurjian-calfia-general-counsel/
LOCATION:Carlsbad Police Department\, 5750 Orion Street\, Carlsbad\, CA\, 92010\, United States
END:VEVENT
BEGIN:VEVENT
DTSTART;TZID=America/Denver:20251001T080000
DTEND;TZID=America/Denver:20251002T170000
DTSTAMP:20260420T065403
CREATED:20250810T033328Z
LAST-MODIFIED:20250810T033328Z
UID:10001182-1759305600-1759424400@calfia.org
SUMMARY:SafeWrap Seminar in Torrence!
DESCRIPTION:
URL:https://calfia.org/event/safewrap-seminar-in-torrence/
LOCATION:Gracie University HQ\, 2440 W Carson St\, Torrance\, CA\, 90501\, United States
END:VEVENT
BEGIN:VEVENT
DTSTART;TZID=America/Denver:20250929T080000
DTEND;TZID=America/Denver:20251001T170000
DTSTAMP:20260420T065403
CREATED:20250616T052032Z
LAST-MODIFIED:20250902T073345Z
UID:10000646-1759132800-1759338000@calfia.org
SUMMARY:Force Encounters Analysis
DESCRIPTION:
URL:https://calfia.org/event/force-encounters-analysis/
LOCATION:Solano County Sheriff’s Office\, 620 Orange DRive\, Vacaville\, CA\, 94533\, United States
END:VEVENT
BEGIN:VEVENT
DTSTART;TZID=America/Denver:20250922T080000
DTEND;TZID=America/Denver:20250925T170000
DTSTAMP:20260420T065403
CREATED:20250812T114141Z
LAST-MODIFIED:20250812T114201Z
UID:10001184-1758528000-1758819600@calfia.org
SUMMARY:AELE Expert Witness Symposium - $100 Discount for CALFIA Members
DESCRIPTION:
URL:https://calfia.org/event/aele-expert-witness-symposium/
LOCATION:Gold Coast Hotel and Casino\, 4000 W Flamingo Road\, Las Vegas\, NV\, 89103\, United States
END:VEVENT
BEGIN:VEVENT
DTSTART;TZID=America/Denver:20250921T100000
DTEND;TZID=America/Denver:20250921T170000
DTSTAMP:20260420T065403
CREATED:20250813T091214Z
LAST-MODIFIED:20250813T091214Z
UID:10001185-1758448800-1758474000@calfia.org
SUMMARY:FREE Jiu-Jitsu for Law Enforcement Self-Defense Class
DESCRIPTION:
URL:https://calfia.org/event/free-jiu-jitsu-for-law-enforcement-self-defense-class/
LOCATION:Carlson Gracie Murrieta\, 38397 Innovation Ct\, Murrieta\, CA\, 92563\, United States
END:VEVENT
BEGIN:VEVENT
DTSTART;TZID=America/Denver:20250908T080000
DTEND;TZID=America/Denver:20250911T183000
DTSTAMP:20260420T065403
CREATED:20250716T105425Z
LAST-MODIFIED:20250716T105425Z
UID:10001175-1757318400-1757615400@calfia.org
SUMMARY:EFC Instructor Certification Course in Ontario\, CA 9/8 – 9/11
DESCRIPTION:
URL:https://calfia.org/event/efc-instructor-certification-course-in-ontario-ca-9-8-9-11/
LOCATION:Ontario Police Department\, 2500 S Archibald Ave\, Ontario\, CA\, 91761\, United States
END:VEVENT
BEGIN:VEVENT
DTSTART;TZID=America/Denver:20250905T070000
DTEND;TZID=America/Denver:20250905T150000
DTSTAMP:20260420T065403
CREATED:20250812T080757Z
LAST-MODIFIED:20250812T080757Z
UID:10001183-1757055600-1757084400@calfia.org
SUMMARY:Los Angeles Sheriff’s Office – Ground Control for Law Enforcement
DESCRIPTION:
URL:https://calfia.org/event/los-angeles-sheriffs-office-ground-control-for-law-enforcement-3/
LOCATION:Los Angeles County Sheriff’s Office\, 11515 Colima Road\, Whittier\, CA\, 90604\, United States
END:VEVENT
BEGIN:VEVENT
DTSTART;TZID=America/Denver:20250829T070000
DTEND;TZID=America/Denver:20250829T150000
DTSTAMP:20260420T065403
CREATED:20250701T110911Z
LAST-MODIFIED:20250701T110911Z
UID:10001170-1756450800-1756479600@calfia.org
SUMMARY:Los Angeles Sheriff’s Office – Ground Control for Law Enforcement
DESCRIPTION:
URL:https://calfia.org/event/los-angeles-sheriffs-office-ground-control-for-law-enforcement-2/
LOCATION:Los Angeles County Sheriff’s Office\, 11515 Colima Road\, Whittier\, CA\, 90604\, United States
END:VEVENT
BEGIN:VEVENT
DTSTART;TZID=America/Denver:20250826T090000
DTEND;TZID=America/Denver:20250826T170000
DTSTAMP:20260420T065403
CREATED:20250731T120948Z
LAST-MODIFIED:20250731T121034Z
UID:10001180-1756198800-1756227600@calfia.org
SUMMARY:Use of Force Seminar with Missy O’Linn in Los Angeles – 08/26
DESCRIPTION:
URL:https://calfia.org/event/use-of-force-seminar-with-missy-olinn-in-los-angeles-08-26/
LOCATION:Alhambra Civic Center Library\, 101 S 1st - Reese Hall\, Alhambra\, CA\, 91801\, United States
END:VEVENT
BEGIN:VEVENT
DTSTART;TZID=America/Denver:20250823T120000
DTEND;TZID=America/Denver:20250823T130000
DTSTAMP:20260420T065403
CREATED:20250702T235916Z
LAST-MODIFIED:20250702T235917Z
UID:10000663-1755950400-1755954000@calfia.org
SUMMARY:Law Enforcement Physical Skills Training
DESCRIPTION:
URL:https://calfia.org/event/law-enforcement-physical-skills-training-2-3/
LOCATION:Acima Jiu Jitsu\, 1735 Spruce Street\, Riverside\, CA\, 92507\, United States
END:VEVENT
BEGIN:VEVENT
DTSTART;TZID=America/Denver:20250821T090000
DTEND;TZID=America/Denver:20250821T170000
DTSTAMP:20260420T065403
CREATED:20250731T121855Z
LAST-MODIFIED:20250731T121855Z
UID:10001181-1755766800-1755795600@calfia.org
SUMMARY:Use of Force Civil Liability Update Missy O’Linn in Bakersfield
DESCRIPTION:
URL:https://calfia.org/event/use-of-force-civil-liability-update-missy-olinn-in-bakersfield/
LOCATION:Discovery Church\, 7103 White Ln.\, Bakersfield\, CA\, 93309\, United States
END:VEVENT
BEGIN:VEVENT
DTSTART;TZID=America/Denver:20250816T120000
DTEND;TZID=America/Denver:20250816T130000
DTSTAMP:20260420T065403
CREATED:20250702T235549Z
LAST-MODIFIED:20250702T235550Z
UID:10000661-1755345600-1755349200@calfia.org
SUMMARY:Law Enforcement Physical Skills Training
DESCRIPTION:
URL:https://calfia.org/event/law-enforcement-physical-skills-training-2/2025-08-16/
LOCATION:Acima Jiu Jitsu\, 1735 Spruce Street\, Riverside\, CA\, 92507\, United States
END:VEVENT
BEGIN:VEVENT
DTSTART;TZID=America/Denver:20250813T090000
DTEND;TZID=America/Denver:20250813T170000
DTSTAMP:20260420T065403
CREATED:20250731T120330Z
LAST-MODIFIED:20250731T120330Z
UID:10001179-1755075600-1755104400@calfia.org
SUMMARY:FREE Use of Force speaking engagement with attorney Missy O’Linn
DESCRIPTION:
URL:https://calfia.org/event/free-use-of-force-speaking-engagement-with-attorney-missy-olinn-2/
LOCATION:People’s Church\, 7172 N. Cedar Ave\, Fresno\, CA\, 93720\, United States
END:VEVENT
BEGIN:VEVENT
DTSTART;TZID=America/Denver:20250812T080000
DTEND;TZID=America/Denver:20250814T170000
DTSTAMP:20260420T065403
CREATED:20250716T110711Z
LAST-MODIFIED:20250716T110711Z
UID:10001177-1754985600-1755190800@calfia.org
SUMMARY:Front Line Leadership at Ontario PD 08/12 – 08/14
DESCRIPTION:
URL:https://calfia.org/event/front-line-leadership-at-ontario-pd-08-12-08-14/
LOCATION:Ontario Police Department\, 2500 S Archibald Ave\, Ontario\, CA\, 91761\, United States
END:VEVENT
BEGIN:VEVENT
DTSTART;TZID=America/Denver:20250812T080000
DTEND;TZID=America/Denver:20250814T120000
DTSTAMP:20260420T065403
CREATED:20250521T103521Z
LAST-MODIFIED:20250521T103521Z
UID:10000639-1754985600-1755172800@calfia.org
SUMMARY:Critical Incident Review Presents: Video Review & Examination
DESCRIPTION:
URL:https://calfia.org/event/critical-incident-review-presents-video-review-examination/
LOCATION:Virtra Corporation\, 295 E. Corporate Place\, Chandler\, AZ\, 85225\, United States
ORGANIZER;CN="Critical Incident Review":MAILTO:laurabuhrmaster.cir@gmail.ocm
END:VEVENT
BEGIN:VEVENT
DTSTART;TZID=America/Denver:20250811T080000
DTEND;TZID=America/Denver:20250815T170000
DTSTAMP:20260420T065403
CREATED:20250416T094152Z
LAST-MODIFIED:20250416T094152Z
UID:10000631-1754899200-1755277200@calfia.org
SUMMARY:POST Academy Instructor's Certification Course
DESCRIPTION:
URL:https://calfia.org/event/post-academy-instructors-certification-course/
LOCATION:Golden West College\, 15744 Goldenwest Street\, Huntington Beach\, CA\, 92647\, United States
END:VEVENT
BEGIN:VEVENT
DTSTART;TZID=America/Denver:20250809T120000
DTEND;TZID=America/Denver:20250809T130000
DTSTAMP:20260420T065403
CREATED:20250702T235549Z
LAST-MODIFIED:20250702T235550Z
UID:10000659-1754740800-1754744400@calfia.org
SUMMARY:Law Enforcement Physical Skills Training
DESCRIPTION:
URL:https://calfia.org/event/law-enforcement-physical-skills-training-2/2025-08-09/
LOCATION:Acima Jiu Jitsu\, 1735 Spruce Street\, Riverside\, CA\, 92507\, United States
END:VEVENT
BEGIN:VEVENT
DTSTART;TZID=America/Denver:20250806T110000
DTEND;TZID=America/Denver:20250806T190000
DTSTAMP:20260420T065403
CREATED:20250731T120111Z
LAST-MODIFIED:20250731T120111Z
UID:10001178-1754478000-1754506800@calfia.org
SUMMARY:FREE Use of Force speaking engagement with attorney Missy O’Linn
DESCRIPTION:
URL:https://calfia.org/event/free-use-of-force-speaking-engagement-with-attorney-missy-olinn/
LOCATION:People’s Church\, 7172 N. Cedar Ave\, Fresno\, CA\, 93720\, United States
END:VEVENT
BEGIN:VEVENT
DTSTART;TZID=America/Denver:20250806T080000
DTEND;TZID=America/Denver:20250808T170000
DTSTAMP:20260420T065403
CREATED:20250426T060133Z
LAST-MODIFIED:20250717T034012Z
UID:10000635-1754467200-1754672400@calfia.org
SUMMARY:CALFIA 2025 Use of Force Conference
DESCRIPTION:
URL:https://calfia.org/event/calfia-2025-use-of-force-conference/
LOCATION:Napa Valley College\, 2277 Napa Vallejo Hwy.\, Napa\, CA\, 94558\, United States
ORGANIZER;CN="CALFIA":MAILTO:Calfia31@gmail.com
END:VEVENT
BEGIN:VEVENT
DTSTART;TZID=America/Denver:20250802T120000
DTEND;TZID=America/Denver:20250802T130000
DTSTAMP:20260420T065403
CREATED:20250702T235549Z
LAST-MODIFIED:20250702T235550Z
UID:10001173-1754136000-1754139600@calfia.org
SUMMARY:Law Enforcement Physical Skills Training
DESCRIPTION:
URL:https://calfia.org/event/law-enforcement-physical-skills-training-2/2025-08-02/
LOCATION:Acima Jiu Jitsu\, 1735 Spruce Street\, Riverside\, CA\, 92507\, United States
END:VEVENT
BEGIN:VEVENT
DTSTART;TZID=America/Denver:20250801T070000
DTEND;TZID=America/Denver:20250801T150000
DTSTAMP:20260420T065403
CREATED:20250701T110820Z
LAST-MODIFIED:20250701T110820Z
UID:10001169-1754031600-1754060400@calfia.org
SUMMARY:Los Angeles Sheriff’s Office – Ground Control for Law Enforcement
DESCRIPTION:
URL:https://calfia.org/event/los-angeles-sheriffs-office-ground-control-for-law-enforcement/
LOCATION:Los Angeles County Sheriff’s Office\, 11515 Colima Road\, Whittier\, CA\, 90604\, United States
END:VEVENT
BEGIN:VEVENT
DTSTART;TZID=America/Denver:20250726T120000
DTEND;TZID=America/Denver:20250726T130000
DTSTAMP:20260420T065403
CREATED:20250702T235549Z
LAST-MODIFIED:20250702T235550Z
UID:10000655-1753531200-1753534800@calfia.org
SUMMARY:Law Enforcement Physical Skills Training
DESCRIPTION:
URL:https://calfia.org/event/law-enforcement-physical-skills-training-2/2025-07-26/
LOCATION:Acima Jiu Jitsu\, 1735 Spruce Street\, Riverside\, CA\, 92507\, United States
END:VEVENT
BEGIN:VEVENT
DTSTART;TZID=America/Denver:20250725T070000
DTEND;TZID=America/Denver:20250725T150000
DTSTAMP:20260420T065403
CREATED:20250603T104959Z
LAST-MODIFIED:20250603T104959Z
UID:10000643-1753426800-1753455600@calfia.org
SUMMARY:Los Angeles Sheriff’s Office – Ground Control for Law Enforcement: 07/25
DESCRIPTION:
URL:https://calfia.org/event/los-angeles-sheriffs-office-ground-control-for-law-enforcement-07-25/
LOCATION:Los Angeles County Sheriff’s Office\, 11515 Colima Road\, Whittier\, CA\, 90604\, United States
END:VEVENT
BEGIN:VEVENT
DTSTART;TZID=America/Denver:20250721T080000
DTEND;TZID=America/Denver:20250801T170000
DTSTAMP:20260420T065403
CREATED:20250603T105221Z
LAST-MODIFIED:20250603T105221Z
UID:10000644-1753084800-1754067600@calfia.org
SUMMARY:Defensive Tactics / ACT Instructor Course Santa Ana\, CA: 07/21 – 08/01
DESCRIPTION:
URL:https://calfia.org/event/defensive-tactics-act-instructor-course-santa-ana-ca-07-21-08-01/
LOCATION:Santa Ana Police Department\, 60 Civic Center Plaza\, Santa Ana\, CA\, 92701\, United States
END:VEVENT
BEGIN:VEVENT
DTSTART;TZID=America/Denver:20250719T120000
DTEND;TZID=America/Denver:20250719T130000
DTSTAMP:20260420T065403
CREATED:20250702T235549Z
LAST-MODIFIED:20250702T235550Z
UID:10000653-1752926400-1752930000@calfia.org
SUMMARY:Law Enforcement Physical Skills Training
DESCRIPTION:
URL:https://calfia.org/event/law-enforcement-physical-skills-training-2/2025-07-19/
LOCATION:Acima Jiu Jitsu\, 1735 Spruce Street\, Riverside\, CA\, 92507\, United States
END:VEVENT
BEGIN:VEVENT
DTSTART;TZID=America/Denver:20250718T070000
DTEND;TZID=America/Denver:20250718T150000
DTSTAMP:20260420T065403
CREATED:20250603T104840Z
LAST-MODIFIED:20250603T104840Z
UID:10000642-1752822000-1752850800@calfia.org
SUMMARY:Los Angeles Sheriff’s Office – Ground Control for Law Enforcement: 07/18
DESCRIPTION:
URL:https://calfia.org/event/los-angeles-sheriffs-office-ground-control-for-law-enforcement-07-18/
LOCATION:Los Angeles County Sheriff’s Office\, 11515 Colima Road\, Whittier\, CA\, 90604\, United States
END:VEVENT
BEGIN:VEVENT
DTSTART;TZID=America/Denver:20250712T120000
DTEND;TZID=America/Denver:20250712T130000
DTSTAMP:20260420T065403
CREATED:20250702T235549Z
LAST-MODIFIED:20250702T235550Z
UID:10000651-1752321600-1752325200@calfia.org
SUMMARY:Law Enforcement Physical Skills Training
DESCRIPTION:
URL:https://calfia.org/event/law-enforcement-physical-skills-training-2/2025-07-12/
LOCATION:Acima Jiu Jitsu\, 1735 Spruce Street\, Riverside\, CA\, 92507\, United States
END:VEVENT
BEGIN:VEVENT
DTSTART;TZID=America/Denver:20250705T120000
DTEND;TZID=America/Denver:20250705T130000
DTSTAMP:20260420T065403
CREATED:20250702T235549Z
LAST-MODIFIED:20250702T235550Z
UID:10000649-1751716800-1751720400@calfia.org
SUMMARY:Law Enforcement Physical Skills Training
DESCRIPTION:
URL:https://calfia.org/event/law-enforcement-physical-skills-training-2/2025-07-05/
LOCATION:Acima Jiu Jitsu\, 1735 Spruce Street\, Riverside\, CA\, 92507\, United States
END:VEVENT
BEGIN:VEVENT
DTSTART;TZID=America/Denver:20250702T080000
DTEND;TZID=America/Denver:20250702T170000
DTSTAMP:20260420T065403
CREATED:20250702T235803Z
LAST-MODIFIED:20250702T235804Z
UID:10001174-1751443200-1751475600@calfia.org
SUMMARY:Law Enforcement Physical Skills Training
DESCRIPTION:
URL:https://calfia.org/event/law-enforcement-physical-skills-training-2-2/2025-07-02/
LOCATION:Acima Jiu Jitsu\, 1735 Spruce Street\, Riverside\, CA\, 92507\, United States
END:VEVENT
END:VCALENDAR