BEGIN:VCALENDAR
VERSION:2.0
PRODID:-//California Force Instructors&#039; Association - ECPv6.15.20//NONSGML v1.0//EN
CALSCALE:GREGORIAN
METHOD:PUBLISH
X-WR-CALNAME:California Force Instructors&#039; Association
X-ORIGINAL-URL:https://calfia.org
X-WR-CALDESC:Events for California Force Instructors&#039; Association
REFRESH-INTERVAL;VALUE=DURATION:PT1H
X-Robots-Tag:noindex
X-PUBLISHED-TTL:PT1H
BEGIN:VTIMEZONE
TZID:America/Denver
BEGIN:DAYLIGHT
TZOFFSETFROM:-0700
TZOFFSETTO:-0600
TZNAME:MDT
DTSTART:20230312T090000
END:DAYLIGHT
BEGIN:STANDARD
TZOFFSETFROM:-0600
TZOFFSETTO:-0700
TZNAME:MST
DTSTART:20231105T080000
END:STANDARD
BEGIN:DAYLIGHT
TZOFFSETFROM:-0700
TZOFFSETTO:-0600
TZNAME:MDT
DTSTART:20240310T090000
END:DAYLIGHT
BEGIN:STANDARD
TZOFFSETFROM:-0600
TZOFFSETTO:-0700
TZNAME:MST
DTSTART:20241103T080000
END:STANDARD
BEGIN:DAYLIGHT
TZOFFSETFROM:-0700
TZOFFSETTO:-0600
TZNAME:MDT
DTSTART:20250309T090000
END:DAYLIGHT
BEGIN:STANDARD
TZOFFSETFROM:-0600
TZOFFSETTO:-0700
TZNAME:MST
DTSTART:20251102T080000
END:STANDARD
BEGIN:DAYLIGHT
TZOFFSETFROM:-0700
TZOFFSETTO:-0600
TZNAME:MDT
DTSTART:20260308T090000
END:DAYLIGHT
BEGIN:STANDARD
TZOFFSETFROM:-0600
TZOFFSETTO:-0700
TZNAME:MST
DTSTART:20261101T080000
END:STANDARD
END:VTIMEZONE
BEGIN:VEVENT
DTSTART;TZID=America/Denver:20250630T080000
DTEND;TZID=America/Denver:20250630T170000
DTSTAMP:20260420T120607
CREATED:20250520T125242Z
LAST-MODIFIED:20250520T125242Z
UID:10000638-1751270400-1751302800@calfia.org
SUMMARY:Savage Training Group Presents: Effective Police Training
DESCRIPTION:
URL:https://calfia.org/event/savage-training-group-presents-effective-police-training/
LOCATION:Livermore Police Department\, 1110 S. Livermore\, Livermore\, CA\, 94550\, United States
END:VEVENT
BEGIN:VEVENT
DTSTART;TZID=America/Denver:20250629T120000
DTEND;TZID=America/Denver:20250629T130000
DTSTAMP:20260420T120607
CREATED:20250623T105037Z
LAST-MODIFIED:20250623T105037Z
UID:10000648-1751198400-1751202000@calfia.org
SUMMARY:Law Enforcement Physical Skills Training
DESCRIPTION:
URL:https://calfia.org/event/law-enforcement-physical-skills-training/
LOCATION:Acima Jiu Jitsu\, 1735 Spruce Street\, Riverside\, CA\, 92507\, United States
END:VEVENT
BEGIN:VEVENT
DTSTART;TZID=America/Denver:20250623T080000
DTEND;TZID=America/Denver:20250627T170000
DTSTAMP:20260420T120607
CREATED:20250416T092508Z
LAST-MODIFIED:20250416T092508Z
UID:10000630-1750665600-1751043600@calfia.org
SUMMARY:POST Academy Instructor Course
DESCRIPTION:
URL:https://calfia.org/event/post-academy-instructor-course/
LOCATION:Golden West College\, 15744 Goldenwest Street\, Huntington Beach\, CA\, 92647\, United States
END:VEVENT
BEGIN:VEVENT
DTSTART;TZID=America/Denver:20250617T100000
DTEND;TZID=America/Denver:20250617T230000
DTSTAMP:20260420T120607
CREATED:20250604T110418Z
LAST-MODIFIED:20250604T110503Z
UID:10000645-1750154400-1750201200@calfia.org
SUMMARY:FREE The Briefing Room Webinar: Felix v. Barnes
DESCRIPTION:
URL:https://calfia.org/event/free-the-briefing-room-webinar-felix-v-barnes/
LOCATION:The Briefing Room
END:VEVENT
BEGIN:VEVENT
DTSTART;TZID=America/Denver:20250612T080000
DTEND;TZID=America/Denver:20250613T170000
DTSTAMP:20260420T120607
CREATED:20250507T051757Z
LAST-MODIFIED:20250507T051757Z
UID:10000637-1749715200-1749834000@calfia.org
SUMMARY:Free Use of Force Report Writing and Testifying Class with David Demurjian\, CALFIA General Counsel
DESCRIPTION:
URL:https://calfia.org/event/free-use-of-force-report-writing-and-testifying-class-with-david-demurjian-calfia-general-counsel-2/
LOCATION:Harbor Lite Lodge\, 120 N Harbor Drive\, Fort Bragg\, CA\, 95437\, United States
END:VEVENT
BEGIN:VEVENT
DTSTART;TZID=America/Denver:20250602T080000
DTEND;TZID=America/Denver:20250605T170000
DTSTAMP:20260420T120607
CREATED:20250527T093606Z
LAST-MODIFIED:20250527T093606Z
UID:10000641-1748851200-1749142800@calfia.org
SUMMARY:Force Science Certification Course - Ontario\, Ca 6/2 - 6/5
DESCRIPTION:
URL:https://calfia.org/event/force-science-certification-course-ontario-ca-6-2-6-5/
LOCATION:Ontario Police Department\, 2500 S Archibald Ave\, Ontario\, CA\, 91761\, United States
END:VEVENT
BEGIN:VEVENT
DTSTART;TZID=America/Denver:20250519T080000
DTEND;TZID=America/Denver:20250521T170000
DTSTAMP:20260420T120607
CREATED:20250326T035003Z
LAST-MODIFIED:20250326T035003Z
UID:10000629-1747641600-1747846800@calfia.org
SUMMARY:Rangemaster Development
DESCRIPTION:
URL:https://calfia.org/event/rangemaster-development/
LOCATION:Beverly Hills Police Department\, 464 N Rexford Drive\, Beverly Hills\, CA\, 90210\, United States
END:VEVENT
BEGIN:VEVENT
DTSTART;TZID=America/Denver:20250418T080000
DTEND;TZID=America/Denver:20250418T170000
DTSTAMP:20260420T120607
CREATED:20250225T092800Z
LAST-MODIFIED:20250225T092800Z
UID:10000620-1744963200-1744995600@calfia.org
SUMMARY:Strategic Disengagement Workshop from The Savage Training Group
DESCRIPTION:
URL:https://calfia.org/event/strategic-disengagement-workshop-from-the-savage-training-group/
LOCATION:Santa Cruz County Sheriff’s Office\, 5200 Soquel Avenue\, Santa Cruz\, CA\, 95062\, United States
END:VEVENT
BEGIN:VEVENT
DTSTART;TZID=America/Denver:20250414T080000
DTEND;TZID=America/Denver:20250418T170000
DTSTAMP:20260420T120607
CREATED:20250225T093235Z
LAST-MODIFIED:20250225T093235Z
UID:10000621-1744617600-1744995600@calfia.org
SUMMARY:Gracie Survival Tactics Level 1 Instructor Course in Vacaville\, CA
DESCRIPTION:
URL:https://calfia.org/event/gracie-survival-tactics-level-1-instructor-course-in-vacaville-ca/
LOCATION:Vacaville Police Department\, 1000 Ulatis Drive\, Vacville\, CA\, 95688\, United States
END:VEVENT
BEGIN:VEVENT
DTSTART;TZID=America/Denver:20250405T090000
DTEND;TZID=America/Denver:20250405T113000
DTSTAMP:20260420T120607
CREATED:20250326T034435Z
LAST-MODIFIED:20250326T034435Z
UID:10000628-1743843600-1743852600@calfia.org
SUMMARY:Code 4 Concepts Police Jiu Jitsu Seminar
DESCRIPTION:
URL:https://calfia.org/event/code-4-concepts-police-jiu-jitsu-seminar/
LOCATION:GC Krav Maga\, 2430 W Whittier Blvd\, La Habra\, CA\, 90631\, United States
END:VEVENT
BEGIN:VEVENT
DTSTART;TZID=America/Denver:20250331T080000
DTEND;TZID=America/Denver:20250403T183000
DTSTAMP:20260420T120607
CREATED:20250129T083858Z
LAST-MODIFIED:20250129T083912Z
UID:10000619-1743408000-1743705000@calfia.org
SUMMARY:EFC Instructor Certification Course in Sacramento
DESCRIPTION:
URL:https://calfia.org/event/efc-instructor-certification-course/
LOCATION:Northern California Regional Public Safety Training Authority\, 2409 Dean Street\, McClellan\, CA\, 95652\, United States
END:VEVENT
BEGIN:VEVENT
DTSTART;TZID=America/Denver:20250326T080000
DTEND;TZID=America/Denver:20250326T100000
DTSTAMP:20260420T120607
CREATED:20250303T090113Z
LAST-MODIFIED:20250303T090113Z
UID:10000623-1742976000-1742983200@calfia.org
SUMMARY:POST SB2 Decertification Course
DESCRIPTION:
URL:https://calfia.org/event/post-sb2-decertification-course/
LOCATION:Solano County Sheriff’s Office\, 620 Orange DRive\, Vacaville\, CA\, 94533\, United States
END:VEVENT
BEGIN:VEVENT
DTSTART;TZID=America/Denver:20250325T100000
DTEND;TZID=America/Denver:20250325T230000
DTSTAMP:20260420T120607
CREATED:20250310T091031Z
LAST-MODIFIED:20250310T091031Z
UID:10000625-1742896800-1742943600@calfia.org
SUMMARY:Should Police Stop Responding to Mental Health Calls? FREE Webinar From The Briefing Room
DESCRIPTION:
URL:https://calfia.org/event/should-police-stop-responding-to-mental-health-calls-free-webinar-from-the-briefing-room/
LOCATION:Webinar
END:VEVENT
BEGIN:VEVENT
DTSTART;TZID=America/Denver:20250325T080000
DTEND;TZID=America/Denver:20250327T170000
DTSTAMP:20260420T120607
CREATED:20250303T090342Z
LAST-MODIFIED:20250303T090342Z
UID:10000624-1742889600-1743094800@calfia.org
SUMMARY:Blue Line Leadership
DESCRIPTION:
URL:https://calfia.org/event/blue-line-leadership-2/
LOCATION:Monrovia Library\, 321 South Myrtle Ave\, Monrovia\, CA\, 91016\, United States
END:VEVENT
BEGIN:VEVENT
DTSTART;TZID=America/Denver:20250324T080000
DTEND;TZID=America/Denver:20250325T170000
DTSTAMP:20260420T120607
CREATED:20241202T115626Z
LAST-MODIFIED:20241202T115626Z
UID:10000614-1742803200-1742922000@calfia.org
SUMMARY:SafeWrap at LAPD with CALFIA Member Cleon Joseph
DESCRIPTION:
URL:https://calfia.org/event/safewrap-at-lapd-with-calfia-member-cleon-joseph/
LOCATION:LAPD Training Academy\, 5651 W Manchester Ave\, Los Angeles\, CA\, 90045\, United States
END:VEVENT
BEGIN:VEVENT
DTSTART;TZID=America/Denver:20250322T090000
DTEND;TZID=America/Denver:20250322T120000
DTSTAMP:20260420T120607
CREATED:20250319T053702Z
LAST-MODIFIED:20250319T053702Z
UID:10000627-1742634000-1742644800@calfia.org
SUMMARY:FREE BJJ Seminar for L.E.
DESCRIPTION:
URL:https://calfia.org/event/free-bjj-seminar-for-l-e/
LOCATION:Orange County Sheriff’s Office\, 15991 Armstrong Avenue\, Tustin\, CA\, 92782\, United States
ORGANIZER;CN="Orange County Sheriff's Office":MAILTO:cagiron@ocsheriff.gov
END:VEVENT
BEGIN:VEVENT
DTSTART;TZID=America/Denver:20250316T130000
DTEND;TZID=America/Denver:20250316T143000
DTSTAMP:20260420T120607
CREATED:20250310T114226Z
LAST-MODIFIED:20250310T114226Z
UID:10000626-1742130000-1742135400@calfia.org
SUMMARY:Jiu Jitsu Seminar for Law Enforcement in Fullerton\, Ca
DESCRIPTION:
URL:https://calfia.org/event/jiu-jitsu-seminar-for-law-enforcement-in-fullerton-ca/
LOCATION:Ethos Jiu Jitsu\, 618 N Harbor Blvd\, Fullerton\, CA\, 92832\, United States
END:VEVENT
BEGIN:VEVENT
DTSTART;TZID=America/Denver:20250305T070000
DTEND;TZID=America/Denver:20250305T150000
DTSTAMP:20260420T120607
CREATED:20241230T081156Z
LAST-MODIFIED:20241230T081156Z
UID:10000615-1741158000-1741186800@calfia.org
SUMMARY:LASO: Ground Control For Law Enforcement
DESCRIPTION:
URL:https://calfia.org/event/laso-ground-control-for-law-enforcement/
LOCATION:Los Angeles County Sheriff’s Office\, 11515 Colima Road\, Whittier\, CA\, 90604\, United States
END:VEVENT
BEGIN:VEVENT
DTSTART;TZID=America/Denver:20250225T090000
DTEND;TZID=America/Denver:20250225T170000
DTSTAMP:20260420T120607
CREATED:20250129T072821Z
LAST-MODIFIED:20250129T072821Z
UID:10000618-1740474000-1740502800@calfia.org
SUMMARY:Use of Force Seminar from Missy O'Linn
DESCRIPTION:
URL:https://calfia.org/event/use-of-force-seminar-from-missy-olinn-2/
LOCATION:Redondo Beach Performing Arts Center\, 1935 Manhattan Beach Blvd\, Redondo Beach\, CA\, 90278\, United States
END:VEVENT
BEGIN:VEVENT
DTSTART;TZID=America/Denver:20250206T090000
DTEND;TZID=America/Denver:20250206T170000
DTSTAMP:20260420T120607
CREATED:20250129T072407Z
LAST-MODIFIED:20250129T072407Z
UID:10000617-1738832400-1738861200@calfia.org
SUMMARY:Use of Force Seminar from Missy O'Linn
DESCRIPTION:
URL:https://calfia.org/event/use-of-force-seminar-from-missy-olinn/
LOCATION:Corona City Hall Council Chambers\, 400 S. Vicentia Ave\, Corona\, CA\, 92878\, United States
END:VEVENT
BEGIN:VEVENT
DTSTART;TZID=America/Denver:20250205T100000
DTEND;TZID=America/Denver:20250205T103000
DTSTAMP:20260420T120607
CREATED:20250129T071506Z
LAST-MODIFIED:20250129T071506Z
UID:10000616-1738749600-1738751400@calfia.org
SUMMARY:Suicide by Cop\, FREE webinar from The Briefing Room
DESCRIPTION:
URL:https://calfia.org/event/suicide-by-cop-free-webinar-from-the-briefing-room/
LOCATION:Webinar
END:VEVENT
BEGIN:VEVENT
DTSTART;TZID=America/Denver:20250107T080000
DTEND;TZID=America/Denver:20250109T170000
DTSTAMP:20260420T120607
CREATED:20241029T191105Z
LAST-MODIFIED:20241029T191105Z
UID:10000611-1736236800-1736442000@calfia.org
SUMMARY:Next Level Leadership
DESCRIPTION:
URL:https://calfia.org/event/next-level-leadership/
LOCATION:Azusa PD Training Facility\, 132 Old San Gabriel CYN RD\, Azusa\, CA\, 91702\, United States
END:VEVENT
BEGIN:VEVENT
DTSTART;TZID=America/Denver:20250106T080000
DTEND;TZID=America/Denver:20250117T170000
DTSTAMP:20260420T120607
CREATED:20241011T161211Z
LAST-MODIFIED:20241011T161211Z
UID:10000605-1736150400-1737133200@calfia.org
SUMMARY:Arrest and Control Instructor School In Napa 01/06/2025 - 01/17/2025
DESCRIPTION:
URL:https://calfia.org/event/arrest-and-control-instructor-school-in-napa-01-06-2025-01-17-2025/
LOCATION:Napa Valley College\, 2277 Napa Vallejo Hwy.\, Napa\, CA\, 94558\, United States
END:VEVENT
BEGIN:VEVENT
DTSTART;TZID=America/Denver:20241212T080000
DTEND;TZID=America/Denver:20241213T170000
DTSTAMP:20260420T120607
CREATED:20240927T095925Z
LAST-MODIFIED:20240927T095925Z
UID:10000601-1733990400-1734109200@calfia.org
SUMMARY:Savage Training Group: Practical De-Escalation and Tactical Conduct
DESCRIPTION:
URL:https://calfia.org/event/savage-training-group-practical-de-escalation-and-tactical-conduct-2/
LOCATION:Brisbane Community Center\, 475 Mission Blue Drive\, Brisbane\, CA\, 94005\, United States
END:VEVENT
BEGIN:VEVENT
DTSTART;TZID=America/Denver:20241212T080000
DTEND;TZID=America/Denver:20241213T170000
DTSTAMP:20260420T120607
CREATED:20240927T094347Z
LAST-MODIFIED:20240927T094347Z
UID:10000595-1733990400-1734109200@calfia.org
SUMMARY:Savage Training Group: Practical De-Escalation and Tactical Conduct
DESCRIPTION:
URL:https://calfia.org/event/savage-training-group-practical-de-escalation-and-tactical-conduct/
LOCATION:High Intensity Drug Trafficking Areas HQ\, 9665 Granite Ridge Drive suite 100\, San Diego\, CA\, 92123\, United States
END:VEVENT
BEGIN:VEVENT
DTSTART;TZID=America/Denver:20241210T080000
DTEND;TZID=America/Denver:20241212T170000
DTSTAMP:20260420T120607
CREATED:20241029T190818Z
LAST-MODIFIED:20241029T190818Z
UID:10000610-1733817600-1734022800@calfia.org
SUMMARY:Blue Line Leadership
DESCRIPTION:
URL:https://calfia.org/event/blue-line-leadership/
LOCATION:Glendale PD Community Room\, 131 North Isabel Streer\, Glendale\, CA\, 91206\, United States
END:VEVENT
BEGIN:VEVENT
DTSTART;TZID=America/Denver:20241210T080000
DTEND;TZID=America/Denver:20241212T170000
DTSTAMP:20260420T120607
CREATED:20241029T190340Z
LAST-MODIFIED:20241029T190340Z
UID:10000609-1733817600-1734022800@calfia.org
SUMMARY:Front Line Leadership
DESCRIPTION:
URL:https://calfia.org/event/front-line-leadership/
LOCATION:Monrovia Library\, 321 South Myrtle Ave\, Monrovia\, CA\, 91016\, United States
END:VEVENT
BEGIN:VEVENT
DTSTART;TZID=America/Denver:20241208T130000
DTEND;TZID=America/Denver:20241208T153000
DTSTAMP:20260420T120607
CREATED:20241029T191915Z
LAST-MODIFIED:20241029T191915Z
UID:10000612-1733662800-1733671800@calfia.org
SUMMARY:OTX Tactics: Law Enforcement Vehicle Extraction Workshop
DESCRIPTION:
URL:https://calfia.org/event/otx-tactics-law-enforcement-vehicle-extraction-workshop/
LOCATION:10th Planet Jiu Jitsu San Diego\, 6008 Mission George RD\, San Diego\, CA\, 92120\, United States
ORGANIZER;CN="OTX Tactics":MAILTO:otxtactics@gmail.com
END:VEVENT
BEGIN:VEVENT
DTSTART;TZID=America/Denver:20241202T080000
DTEND;TZID=America/Denver:20241213T170000
DTSTAMP:20260420T120607
CREATED:20240722T112152Z
LAST-MODIFIED:20240722T112152Z
UID:10000588-1733126400-1734109200@calfia.org
SUMMARY:Defensive Tactics / ACT Instructor Course from CALFIA board member the Dreamy Brandon Sontag
DESCRIPTION:
URL:https://calfia.org/event/defensive-tactics-act-instructor-course-from-calfia-board-member-the-dreamy-brandon-sontag/
LOCATION:Santa Ana Police Department\, 60 Civic Center Plaza\, Santa Ana\, CA\, 92701\, United States
END:VEVENT
BEGIN:VEVENT
DTSTART;TZID=America/Denver:20241202T080000
DTEND;TZID=America/Denver:20241202T170000
DTSTAMP:20260420T120607
CREATED:20240927T094956Z
LAST-MODIFIED:20240927T094956Z
UID:10000597-1733126400-1733158800@calfia.org
SUMMARY:Savage Training Group: Effective Police Training
DESCRIPTION:
URL:https://calfia.org/event/savage-training-group-effective-police-training-3/
LOCATION:Mahany/Martha Riley Library\, 1501 Pleasant Grove Blvd\, Roseville\, CA\, 95747\, United States
END:VEVENT
END:VCALENDAR