BEGIN:VCALENDAR
VERSION:2.0
PRODID:-//California Force Instructors&#039; Association - ECPv6.15.20//NONSGML v1.0//EN
CALSCALE:GREGORIAN
METHOD:PUBLISH
X-ORIGINAL-URL:https://calfia.org
X-WR-CALDESC:Events for California Force Instructors&#039; Association
REFRESH-INTERVAL;VALUE=DURATION:PT1H
X-Robots-Tag:noindex
X-PUBLISHED-TTL:PT1H
BEGIN:VTIMEZONE
TZID:America/Denver
BEGIN:DAYLIGHT
TZOFFSETFROM:-0700
TZOFFSETTO:-0600
TZNAME:MDT
DTSTART:20230312T090000
END:DAYLIGHT
BEGIN:STANDARD
TZOFFSETFROM:-0600
TZOFFSETTO:-0700
TZNAME:MST
DTSTART:20231105T080000
END:STANDARD
BEGIN:DAYLIGHT
TZOFFSETFROM:-0700
TZOFFSETTO:-0600
TZNAME:MDT
DTSTART:20240310T090000
END:DAYLIGHT
BEGIN:STANDARD
TZOFFSETFROM:-0600
TZOFFSETTO:-0700
TZNAME:MST
DTSTART:20241103T080000
END:STANDARD
BEGIN:DAYLIGHT
TZOFFSETFROM:-0700
TZOFFSETTO:-0600
TZNAME:MDT
DTSTART:20250309T090000
END:DAYLIGHT
BEGIN:STANDARD
TZOFFSETFROM:-0600
TZOFFSETTO:-0700
TZNAME:MST
DTSTART:20251102T080000
END:STANDARD
BEGIN:DAYLIGHT
TZOFFSETFROM:-0700
TZOFFSETTO:-0600
TZNAME:MDT
DTSTART:20260308T090000
END:DAYLIGHT
BEGIN:STANDARD
TZOFFSETFROM:-0600
TZOFFSETTO:-0700
TZNAME:MST
DTSTART:20261101T080000
END:STANDARD
BEGIN:DAYLIGHT
TZOFFSETFROM:-0700
TZOFFSETTO:-0600
TZNAME:MDT
DTSTART:20270314T090000
END:DAYLIGHT
BEGIN:STANDARD
TZOFFSETFROM:-0600
TZOFFSETTO:-0700
TZNAME:MST
DTSTART:20271107T080000
END:STANDARD
END:VTIMEZONE
BEGIN:VEVENT
DTSTART;TZID=America/Denver:20260224T080000
DTEND;TZID=America/Denver:20260226T170000
DTSTAMP:20260419T230516
CREATED:20260115T192302Z
LAST-MODIFIED:20260115T192423Z
UID:10001206-1771920000-1772125200@calfia.org
SUMMARY:Critical Incident Review: Video Examination & Review 02/24 – 02/26 in Ontario\, Ca
DESCRIPTION:
URL:https://calfia.org/event/critical-incident-review-video-examination-review-02-24-02-26-in-ontario-ca/
LOCATION:Ontario Police Department\, 2500 S Archibald Ave\, Ontario\, CA\, 91761\, United States
ORGANIZER;CN="Critical Incident Review":MAILTO:laurabuhrmaster.cir@gmail.ocm
END:VEVENT
BEGIN:VEVENT
DTSTART;TZID=America/Denver:20250812T080000
DTEND;TZID=America/Denver:20250814T120000
DTSTAMP:20260419T230516
CREATED:20250521T103521Z
LAST-MODIFIED:20250521T103521Z
UID:10000639-1754985600-1755172800@calfia.org
SUMMARY:Critical Incident Review Presents: Video Review & Examination
DESCRIPTION:
URL:https://calfia.org/event/critical-incident-review-presents-video-review-examination/
LOCATION:Virtra Corporation\, 295 E. Corporate Place\, Chandler\, AZ\, 85225\, United States
ORGANIZER;CN="Critical Incident Review":MAILTO:laurabuhrmaster.cir@gmail.ocm
END:VEVENT
BEGIN:VEVENT
DTSTART;TZID=America/Denver:20240506T080000
DTEND;TZID=America/Denver:20240508T160000
DTSTAMP:20260419T230516
CREATED:20240101T112000Z
LAST-MODIFIED:20240101T112000Z
UID:10000559-1714982400-1715184000@calfia.org
SUMMARY:Force Investigations; Forensic Video Review & Analysis
DESCRIPTION:
URL:https://calfia.org/event/force-investigations-forensic-video-review-analysis/
LOCATION:Livermore Police Department\, 1110 S. Livermore\, Livermore\, CA\, 94550\, United States
ORGANIZER;CN="Critical Incident Review":MAILTO:laurabuhrmaster.cir@gmail.ocm
END:VEVENT
END:VCALENDAR