BEGIN:VCALENDAR
VERSION:2.0
PRODID:-//California Force Instructors&#039; Association - ECPv6.15.20//NONSGML v1.0//EN
CALSCALE:GREGORIAN
METHOD:PUBLISH
X-ORIGINAL-URL:https://calfia.org
X-WR-CALDESC:Events for California Force Instructors&#039; Association
REFRESH-INTERVAL;VALUE=DURATION:PT1H
X-Robots-Tag:noindex
X-PUBLISHED-TTL:PT1H
BEGIN:VTIMEZONE
TZID:America/Denver
BEGIN:DAYLIGHT
TZOFFSETFROM:-0700
TZOFFSETTO:-0600
TZNAME:MDT
DTSTART:20230312T090000
END:DAYLIGHT
BEGIN:STANDARD
TZOFFSETFROM:-0600
TZOFFSETTO:-0700
TZNAME:MST
DTSTART:20231105T080000
END:STANDARD
BEGIN:DAYLIGHT
TZOFFSETFROM:-0700
TZOFFSETTO:-0600
TZNAME:MDT
DTSTART:20240310T090000
END:DAYLIGHT
BEGIN:STANDARD
TZOFFSETFROM:-0600
TZOFFSETTO:-0700
TZNAME:MST
DTSTART:20241103T080000
END:STANDARD
BEGIN:DAYLIGHT
TZOFFSETFROM:-0700
TZOFFSETTO:-0600
TZNAME:MDT
DTSTART:20250309T090000
END:DAYLIGHT
BEGIN:STANDARD
TZOFFSETFROM:-0600
TZOFFSETTO:-0700
TZNAME:MST
DTSTART:20251102T080000
END:STANDARD
BEGIN:DAYLIGHT
TZOFFSETFROM:-0700
TZOFFSETTO:-0600
TZNAME:MDT
DTSTART:20260308T090000
END:DAYLIGHT
BEGIN:STANDARD
TZOFFSETFROM:-0600
TZOFFSETTO:-0700
TZNAME:MST
DTSTART:20261101T080000
END:STANDARD
BEGIN:DAYLIGHT
TZOFFSETFROM:-0700
TZOFFSETTO:-0600
TZNAME:MDT
DTSTART:20270314T090000
END:DAYLIGHT
BEGIN:STANDARD
TZOFFSETFROM:-0600
TZOFFSETTO:-0700
TZNAME:MST
DTSTART:20271107T080000
END:STANDARD
END:VTIMEZONE
BEGIN:VEVENT
DTSTART;TZID=America/Denver:20260119T080000
DTEND;TZID=America/Denver:20260122T183000
DTSTAMP:20260419T172843
CREATED:20251222T093158Z
LAST-MODIFIED:20251222T093219Z
UID:10001200-1768809600-1769106600@calfia.org
SUMMARY:EFC Instructor Certification Course
DESCRIPTION:
URL:https://calfia.org/event/efc-instructor-certification-course-2/
LOCATION:Kern Regional Training Center\, 962 Norris Road\, Bakersfield\, CA\, 93308\, United States
END:VEVENT
BEGIN:VEVENT
DTSTART;TZID=America/Denver:20251103T080000
DTEND;TZID=America/Denver:20251107T170000
DTSTAMP:20260419T172843
CREATED:20250426T042334Z
LAST-MODIFIED:20250426T042334Z
UID:10000634-1762156800-1762534800@calfia.org
SUMMARY:EFC Instructor Certification Course in Chula Vista
DESCRIPTION:
URL:https://calfia.org/event/efc-instructor-certification-course-in-chula-vista/
LOCATION:Chula Vista Police Department\, 315 Fourth Avenue\, Chula Vista\, CA\, 91910\, United States
END:VEVENT
BEGIN:VEVENT
DTSTART;TZID=America/Denver:20250908T080000
DTEND;TZID=America/Denver:20250911T183000
DTSTAMP:20260419T172843
CREATED:20250716T105425Z
LAST-MODIFIED:20250716T105425Z
UID:10001175-1757318400-1757615400@calfia.org
SUMMARY:EFC Instructor Certification Course in Ontario\, CA 9/8 – 9/11
DESCRIPTION:
URL:https://calfia.org/event/efc-instructor-certification-course-in-ontario-ca-9-8-9-11/
LOCATION:Ontario Police Department\, 2500 S Archibald Ave\, Ontario\, CA\, 91761\, United States
END:VEVENT
BEGIN:VEVENT
DTSTART;TZID=America/Denver:20250331T080000
DTEND;TZID=America/Denver:20250403T183000
DTSTAMP:20260419T172843
CREATED:20250129T083858Z
LAST-MODIFIED:20250129T083912Z
UID:10000619-1743408000-1743705000@calfia.org
SUMMARY:EFC Instructor Certification Course in Sacramento
DESCRIPTION:
URL:https://calfia.org/event/efc-instructor-certification-course/
LOCATION:Northern California Regional Public Safety Training Authority\, 2409 Dean Street\, McClellan\, CA\, 95652\, United States
END:VEVENT
BEGIN:VEVENT
DTSTART;TZID=America/Denver:20240617T080000
DTEND;TZID=America/Denver:20240620T180000
DTSTAMP:20260419T172843
CREATED:20240128T225251Z
LAST-MODIFIED:20240128T225251Z
UID:10000562-1718611200-1718906400@calfia.org
SUMMARY:EFC Instructors Certification Course
DESCRIPTION:
URL:https://calfia.org/event/efc-instructors-certification-course/
LOCATION:Corona Police Department\, 730 Public Safety Way\, Corona\, CA\, 92882\, United States
END:VEVENT
END:VCALENDAR