BEGIN:VCALENDAR
VERSION:2.0
PRODID:-//California Force Instructors&#039; Association - ECPv6.15.20//NONSGML v1.0//EN
CALSCALE:GREGORIAN
METHOD:PUBLISH
X-WR-CALNAME:California Force Instructors&#039; Association
X-ORIGINAL-URL:https://calfia.org
X-WR-CALDESC:Events for California Force Instructors&#039; Association
REFRESH-INTERVAL;VALUE=DURATION:PT1H
X-Robots-Tag:noindex
X-PUBLISHED-TTL:PT1H
BEGIN:VTIMEZONE
TZID:America/Denver
BEGIN:DAYLIGHT
TZOFFSETFROM:-0700
TZOFFSETTO:-0600
TZNAME:MDT
DTSTART:20240310T090000
END:DAYLIGHT
BEGIN:STANDARD
TZOFFSETFROM:-0600
TZOFFSETTO:-0700
TZNAME:MST
DTSTART:20241103T080000
END:STANDARD
BEGIN:DAYLIGHT
TZOFFSETFROM:-0700
TZOFFSETTO:-0600
TZNAME:MDT
DTSTART:20250309T090000
END:DAYLIGHT
BEGIN:STANDARD
TZOFFSETFROM:-0600
TZOFFSETTO:-0700
TZNAME:MST
DTSTART:20251102T080000
END:STANDARD
BEGIN:DAYLIGHT
TZOFFSETFROM:-0700
TZOFFSETTO:-0600
TZNAME:MDT
DTSTART:20260308T090000
END:DAYLIGHT
BEGIN:STANDARD
TZOFFSETFROM:-0600
TZOFFSETTO:-0700
TZNAME:MST
DTSTART:20261101T080000
END:STANDARD
END:VTIMEZONE
BEGIN:VEVENT
DTSTART;TZID=America/Denver:20250826T090000
DTEND;TZID=America/Denver:20250826T170000
DTSTAMP:20260419T190422
CREATED:20250731T120948Z
LAST-MODIFIED:20250731T121034Z
UID:10001180-1756198800-1756227600@calfia.org
SUMMARY:Use of Force Seminar with Missy O’Linn in Los Angeles – 08/26
DESCRIPTION:
URL:https://calfia.org/event/use-of-force-seminar-with-missy-olinn-in-los-angeles-08-26/
LOCATION:Alhambra Civic Center Library\, 101 S 1st - Reese Hall\, Alhambra\, CA\, 91801\, United States
END:VEVENT
BEGIN:VEVENT
DTSTART;TZID=America/Denver:20250821T090000
DTEND;TZID=America/Denver:20250821T170000
DTSTAMP:20260419T190422
CREATED:20250731T121855Z
LAST-MODIFIED:20250731T121855Z
UID:10001181-1755766800-1755795600@calfia.org
SUMMARY:Use of Force Civil Liability Update Missy O’Linn in Bakersfield
DESCRIPTION:
URL:https://calfia.org/event/use-of-force-civil-liability-update-missy-olinn-in-bakersfield/
LOCATION:Discovery Church\, 7103 White Ln.\, Bakersfield\, CA\, 93309\, United States
END:VEVENT
BEGIN:VEVENT
DTSTART;TZID=America/Denver:20250813T090000
DTEND;TZID=America/Denver:20250813T170000
DTSTAMP:20260419T190422
CREATED:20250731T120330Z
LAST-MODIFIED:20250731T120330Z
UID:10001179-1755075600-1755104400@calfia.org
SUMMARY:FREE Use of Force speaking engagement with attorney Missy O’Linn
DESCRIPTION:
URL:https://calfia.org/event/free-use-of-force-speaking-engagement-with-attorney-missy-olinn-2/
LOCATION:People’s Church\, 7172 N. Cedar Ave\, Fresno\, CA\, 93720\, United States
END:VEVENT
BEGIN:VEVENT
DTSTART;TZID=America/Denver:20250806T110000
DTEND;TZID=America/Denver:20250806T190000
DTSTAMP:20260419T190422
CREATED:20250731T120111Z
LAST-MODIFIED:20250731T120111Z
UID:10001178-1754478000-1754506800@calfia.org
SUMMARY:FREE Use of Force speaking engagement with attorney Missy O’Linn
DESCRIPTION:
URL:https://calfia.org/event/free-use-of-force-speaking-engagement-with-attorney-missy-olinn/
LOCATION:People’s Church\, 7172 N. Cedar Ave\, Fresno\, CA\, 93720\, United States
END:VEVENT
BEGIN:VEVENT
DTSTART;TZID=America/Denver:20250225T090000
DTEND;TZID=America/Denver:20250225T170000
DTSTAMP:20260419T190422
CREATED:20250129T072821Z
LAST-MODIFIED:20250129T072821Z
UID:10000618-1740474000-1740502800@calfia.org
SUMMARY:Use of Force Seminar from Missy O'Linn
DESCRIPTION:
URL:https://calfia.org/event/use-of-force-seminar-from-missy-olinn-2/
LOCATION:Redondo Beach Performing Arts Center\, 1935 Manhattan Beach Blvd\, Redondo Beach\, CA\, 90278\, United States
END:VEVENT
BEGIN:VEVENT
DTSTART;TZID=America/Denver:20250206T090000
DTEND;TZID=America/Denver:20250206T170000
DTSTAMP:20260419T190422
CREATED:20250129T072407Z
LAST-MODIFIED:20250129T072407Z
UID:10000617-1738832400-1738861200@calfia.org
SUMMARY:Use of Force Seminar from Missy O'Linn
DESCRIPTION:
URL:https://calfia.org/event/use-of-force-seminar-from-missy-olinn/
LOCATION:Corona City Hall Council Chambers\, 400 S. Vicentia Ave\, Corona\, CA\, 92878\, United States
END:VEVENT
END:VCALENDAR