BEGIN:VCALENDAR
VERSION:2.0
PRODID:-//California Force Instructors&#039; Association - ECPv6.15.20//NONSGML v1.0//EN
CALSCALE:GREGORIAN
METHOD:PUBLISH
X-ORIGINAL-URL:https://calfia.org
X-WR-CALDESC:Events for California Force Instructors&#039; Association
REFRESH-INTERVAL;VALUE=DURATION:PT1H
X-Robots-Tag:noindex
X-PUBLISHED-TTL:PT1H
BEGIN:VTIMEZONE
TZID:America/Denver
BEGIN:DAYLIGHT
TZOFFSETFROM:-0700
TZOFFSETTO:-0600
TZNAME:MDT
DTSTART:20230312T090000
END:DAYLIGHT
BEGIN:STANDARD
TZOFFSETFROM:-0600
TZOFFSETTO:-0700
TZNAME:MST
DTSTART:20231105T080000
END:STANDARD
BEGIN:DAYLIGHT
TZOFFSETFROM:-0700
TZOFFSETTO:-0600
TZNAME:MDT
DTSTART:20240310T090000
END:DAYLIGHT
BEGIN:STANDARD
TZOFFSETFROM:-0600
TZOFFSETTO:-0700
TZNAME:MST
DTSTART:20241103T080000
END:STANDARD
BEGIN:DAYLIGHT
TZOFFSETFROM:-0700
TZOFFSETTO:-0600
TZNAME:MDT
DTSTART:20250309T090000
END:DAYLIGHT
BEGIN:STANDARD
TZOFFSETFROM:-0600
TZOFFSETTO:-0700
TZNAME:MST
DTSTART:20251102T080000
END:STANDARD
BEGIN:DAYLIGHT
TZOFFSETFROM:-0700
TZOFFSETTO:-0600
TZNAME:MDT
DTSTART:20260308T090000
END:DAYLIGHT
BEGIN:STANDARD
TZOFFSETFROM:-0600
TZOFFSETTO:-0700
TZNAME:MST
DTSTART:20261101T080000
END:STANDARD
END:VTIMEZONE
BEGIN:VEVENT
DTSTART;TZID=America/Denver:20250322T090000
DTEND;TZID=America/Denver:20250322T120000
DTSTAMP:20260420T031348
CREATED:20250319T053702Z
LAST-MODIFIED:20250319T053702Z
UID:10000627-1742634000-1742644800@calfia.org
SUMMARY:FREE BJJ Seminar for L.E.
DESCRIPTION:
URL:https://calfia.org/event/free-bjj-seminar-for-l-e/
LOCATION:Orange County Sheriff’s Office\, 15991 Armstrong Avenue\, Tustin\, CA\, 92782\, United States
ORGANIZER;CN="Orange County Sheriff's Office":MAILTO:cagiron@ocsheriff.gov
END:VEVENT
BEGIN:VEVENT
DTSTART;TZID=America/Denver:20240406T090000
DTEND;TZID=America/Denver:20240406T120000
DTSTAMP:20260420T031348
CREATED:20240320T120921Z
LAST-MODIFIED:20240320T120921Z
UID:10000577-1712394000-1712404800@calfia.org
SUMMARY:FREE BJJ Seminar for Law Enforcement!
DESCRIPTION:
URL:https://calfia.org/event/free-bjj-seminar-for-law-enforcement/
LOCATION:Orange County Sheriff’s Office\, 15991 Armstrong Avenue\, Tustin\, CA\, 92782\, United States
ORGANIZER;CN="Orange County Sheriff's Office":MAILTO:cagiron@ocsheriff.gov
END:VEVENT
END:VCALENDAR