BEGIN:VCALENDAR
VERSION:2.0
PRODID:-//California Force Instructors&#039; Association - ECPv6.15.20//NONSGML v1.0//EN
CALSCALE:GREGORIAN
METHOD:PUBLISH
X-WR-CALNAME:California Force Instructors&#039; Association
X-ORIGINAL-URL:https://calfia.org
X-WR-CALDESC:Events for California Force Instructors&#039; Association
REFRESH-INTERVAL;VALUE=DURATION:PT1H
X-Robots-Tag:noindex
X-PUBLISHED-TTL:PT1H
BEGIN:VTIMEZONE
TZID:America/Denver
BEGIN:DAYLIGHT
TZOFFSETFROM:-0700
TZOFFSETTO:-0600
TZNAME:MDT
DTSTART:20230312T090000
END:DAYLIGHT
BEGIN:STANDARD
TZOFFSETFROM:-0600
TZOFFSETTO:-0700
TZNAME:MST
DTSTART:20231105T080000
END:STANDARD
BEGIN:DAYLIGHT
TZOFFSETFROM:-0700
TZOFFSETTO:-0600
TZNAME:MDT
DTSTART:20240310T090000
END:DAYLIGHT
BEGIN:STANDARD
TZOFFSETFROM:-0600
TZOFFSETTO:-0700
TZNAME:MST
DTSTART:20241103T080000
END:STANDARD
BEGIN:DAYLIGHT
TZOFFSETFROM:-0700
TZOFFSETTO:-0600
TZNAME:MDT
DTSTART:20250309T090000
END:DAYLIGHT
BEGIN:STANDARD
TZOFFSETFROM:-0600
TZOFFSETTO:-0700
TZNAME:MST
DTSTART:20251102T080000
END:STANDARD
END:VTIMEZONE
BEGIN:VEVENT
DTSTART;TZID=America/Denver:20241028T080000
DTEND;TZID=America/Denver:20241028T170000
DTSTAMP:20260419T140111
CREATED:20240927T100616Z
LAST-MODIFIED:20240927T100616Z
UID:10000604-1730102400-1730134800@calfia.org
SUMMARY:Savage Training Group: Response to the Non-Criminal Barricade: Disengagement & Special Relationships
DESCRIPTION:
URL:https://calfia.org/event/savage-training-group-response-to-the-non-criminal-barricade-disengagement-special-relationships-3/
LOCATION:Rocklin Police Department\, 4080 Rocklin Road\, Rocklin\, CA\, 95677\, United States
END:VEVENT
BEGIN:VEVENT
DTSTART;TZID=America/Denver:20241021T080000
DTEND;TZID=America/Denver:20241021T170000
DTSTAMP:20260419T140111
CREATED:20240927T095230Z
LAST-MODIFIED:20240927T095230Z
UID:10000598-1729497600-1729530000@calfia.org
SUMMARY:Savage Training Group: Patrol Survival Tactics
DESCRIPTION:
URL:https://calfia.org/event/savage-training-group-patrol-survival-tactics-2/
LOCATION:Las Colinas Detention and Reentry Facility\, 451 Riverview Parkway\, Santee\, CA\, 92071\, United States
END:VEVENT
BEGIN:VEVENT
DTSTART;TZID=America/Denver:20241014T080000
DTEND;TZID=America/Denver:20241014T170000
DTSTAMP:20260419T140111
CREATED:20240401T095355Z
LAST-MODIFIED:20240401T095355Z
UID:10000579-1728892800-1728925200@calfia.org
SUMMARY:Effective Police Training from Savage Training Group
DESCRIPTION:
URL:https://calfia.org/event/effective-police-training-from-savage-training-group/
LOCATION:Napa Sheriff’s Office\, 1535 Airport Blvd\, Napa\, CA\, 94558\, United States
END:VEVENT
BEGIN:VEVENT
DTSTART;TZID=America/Denver:20241011T080000
DTEND;TZID=America/Denver:20241011T170000
DTSTAMP:20260419T140111
CREATED:20240927T100312Z
LAST-MODIFIED:20240927T100312Z
UID:10000603-1728633600-1728666000@calfia.org
SUMMARY:Savage Training Group: Response to the Non-Criminal Barricade: Disengagement & Special Relationships
DESCRIPTION:
URL:https://calfia.org/event/savage-training-group-response-to-the-non-criminal-barricade-disengagement-special-relationships-2/
LOCATION:Milpitas Police Department\, 1275 N. Milpitas Blvd\, Milpitas\, CA\, 95035\, United States
END:VEVENT
BEGIN:VEVENT
DTSTART;TZID=America/Denver:20241007T080000
DTEND;TZID=America/Denver:20241009T170000
DTSTAMP:20260419T140111
CREATED:20240927T095432Z
LAST-MODIFIED:20240927T095432Z
UID:10000599-1728288000-1728493200@calfia.org
SUMMARY:Savage Training Group: Supervisor's Seminar
DESCRIPTION:
URL:https://calfia.org/event/savage-training-group-supervisors-seminar/
LOCATION:Santa Clara Police Department
END:VEVENT
BEGIN:VEVENT
DTSTART;TZID=America/Denver:20241001T080000
DTEND;TZID=America/Denver:20241001T170000
DTSTAMP:20260419T140111
CREATED:20240927T095658Z
LAST-MODIFIED:20240927T095658Z
UID:10000600-1727769600-1727802000@calfia.org
SUMMARY:Savage Training Group: Use of Force Analysis for Law Enforcement Managers
DESCRIPTION:
URL:https://calfia.org/event/savage-training-group-use-of-force-analysis-for-law-enforcement-managers/
LOCATION:Stanislaus County Regional Training Division\, 3800 Cornucopia Way\, Modesto\, CA\, 95358\, United States
END:VEVENT
BEGIN:VEVENT
DTSTART;TZID=America/Denver:20240930T080000
DTEND;TZID=America/Denver:20240930T170000
DTSTAMP:20260419T140111
CREATED:20240927T094753Z
LAST-MODIFIED:20240927T094753Z
UID:10000596-1727683200-1727715600@calfia.org
SUMMARY:Savage Training Group: Effective Police Training
DESCRIPTION:
URL:https://calfia.org/event/savage-training-group-effective-police-training-2/
LOCATION:Livermore City Hall Mendenhall Room\, 1016 S. Livermore Ave\, Livermore\, CA\, 94550\, United States
END:VEVENT
BEGIN:VEVENT
DTSTART;TZID=America/Denver:20240702T100000
DTEND;TZID=America/Denver:20240702T110000
DTSTAMP:20260419T140111
CREATED:20240702T121544Z
LAST-MODIFIED:20240702T121544Z
UID:10000585-1719914400-1719918000@calfia.org
SUMMARY:SAVAGE Training Group Presents: Next-Gen Learning for Law Enforcement Harnessing Neuroscience and Generative AI. FREE!!!!
DESCRIPTION:July 12th\, 1000-1100PST \nNo cost  \n  \n \nAn online presentation from a world-renowned expert in learning\, Dr. Barbara Oakley \nRegistration restricted to current and retired law enforcement officers and other law enforcement agency affiliated staff. \nRegister at https://us02web.zoom.us/meeting/register/tZUvcumtpzspGdVOQdq-Ue_lsuLkMAyJk3dR \nThe Savage Training Group is proud to host Dr. Barbara Oakley for this unique online presentation on the future of law enforcement training. \nIn this insightful presentation\, Dr. Barbara Oakley will explore the evolving relationship between neuroscience and generative artificial intelligence\, and the implications for more effective police instruction and training. By unraveling how the human brain processes information and learns\, alongside the capabilities of innovative generative AI systems\, Dr. Oakley will offer a thought-provoking perspective on optimizing training programs for law enforcement. Discover practical\, neuroscience-driven strategies for leveraging generative AI technologies to enhance knowledge retention\, skill development\, and overall training outcomes for police personnel. Whether you’re an experienced instructor or department leader\, this presentation will provide valuable insights on blending human cognitive insights with the latest advancements in artificial intelligence. The goal is to equip attendees with a deeper understanding of how the brain functions\, and tangible approaches for applying these principles – together with generative AI – to elevate police education and professional development.
URL:https://calfia.org/event/savage-training-group-presents-next-gen-learning-for-law-enforcement-harnessing-neuroscience-and-generative-ai-free/
END:VEVENT
END:VCALENDAR