BEGIN:VCALENDAR
VERSION:2.0
PRODID:-//California Force Instructors&#039; Association - ECPv6.15.20//NONSGML v1.0//EN
CALSCALE:GREGORIAN
METHOD:PUBLISH
X-ORIGINAL-URL:https://calfia.org
X-WR-CALDESC:Events for California Force Instructors&#039; Association
REFRESH-INTERVAL;VALUE=DURATION:PT1H
X-Robots-Tag:noindex
X-PUBLISHED-TTL:PT1H
BEGIN:VTIMEZONE
TZID:America/Denver
BEGIN:DAYLIGHT
TZOFFSETFROM:-0700
TZOFFSETTO:-0600
TZNAME:MDT
DTSTART:20230312T090000
END:DAYLIGHT
BEGIN:STANDARD
TZOFFSETFROM:-0600
TZOFFSETTO:-0700
TZNAME:MST
DTSTART:20231105T080000
END:STANDARD
BEGIN:DAYLIGHT
TZOFFSETFROM:-0700
TZOFFSETTO:-0600
TZNAME:MDT
DTSTART:20240310T090000
END:DAYLIGHT
BEGIN:STANDARD
TZOFFSETFROM:-0600
TZOFFSETTO:-0700
TZNAME:MST
DTSTART:20241103T080000
END:STANDARD
BEGIN:DAYLIGHT
TZOFFSETFROM:-0700
TZOFFSETTO:-0600
TZNAME:MDT
DTSTART:20250309T090000
END:DAYLIGHT
BEGIN:STANDARD
TZOFFSETFROM:-0600
TZOFFSETTO:-0700
TZNAME:MST
DTSTART:20251102T080000
END:STANDARD
BEGIN:DAYLIGHT
TZOFFSETFROM:-0700
TZOFFSETTO:-0600
TZNAME:MDT
DTSTART:20260308T090000
END:DAYLIGHT
BEGIN:STANDARD
TZOFFSETFROM:-0600
TZOFFSETTO:-0700
TZNAME:MST
DTSTART:20261101T080000
END:STANDARD
END:VTIMEZONE
BEGIN:VEVENT
DTSTART;TZID=America/Denver:20251013T080000
DTEND;TZID=America/Denver:20251017T170000
DTSTAMP:20260419T141559
CREATED:20250521T105032Z
LAST-MODIFIED:20250522T120539Z
UID:10000640-1760342400-1760720400@calfia.org
SUMMARY:Defensive Tactics Instructor Training Program with Todd Fox
DESCRIPTION:
URL:https://calfia.org/event/defensive-tactics-instructor-training-program-with-todd-fox/
LOCATION:Missouri State Highway Patrol Academy\, 1510 E Elm Street\, Jefferson City\, MO\, 65101\, United States
ORGANIZER;CN="Tour Protection":MAILTO:info@tourprotection.com
END:VEVENT
BEGIN:VEVENT
DTSTART;TZID=America/Denver:20240923T083000
DTEND;TZID=America/Denver:20241027T170000
DTSTAMP:20260419T141559
CREATED:20240820T122552Z
LAST-MODIFIED:20240820T122552Z
UID:10000592-1727080200-1730048400@calfia.org
SUMMARY:Defensive Tactics Instructor Training Program
DESCRIPTION:Screenshot
URL:https://calfia.org/event/defensive-tactics-instructor-training-program/
LOCATION:Missouri State Highway Patrol\, 1510 East Elm Street\, Jefferson City\, CA\, 65102\, United States
ORGANIZER;CN="Tour Protection":MAILTO:info@tourprotection.com
END:VEVENT
END:VCALENDAR