BEGIN:VCALENDAR
VERSION:2.0
PRODID:-//California Force Instructors&#039; Association - ECPv6.15.20//NONSGML v1.0//EN
CALSCALE:GREGORIAN
METHOD:PUBLISH
X-ORIGINAL-URL:https://calfia.org
X-WR-CALDESC:Events for California Force Instructors&#039; Association
REFRESH-INTERVAL;VALUE=DURATION:PT1H
X-Robots-Tag:noindex
X-PUBLISHED-TTL:PT1H
BEGIN:VTIMEZONE
TZID:America/Denver
BEGIN:DAYLIGHT
TZOFFSETFROM:-0700
TZOFFSETTO:-0600
TZNAME:MDT
DTSTART:20230312T090000
END:DAYLIGHT
BEGIN:STANDARD
TZOFFSETFROM:-0600
TZOFFSETTO:-0700
TZNAME:MST
DTSTART:20231105T080000
END:STANDARD
BEGIN:DAYLIGHT
TZOFFSETFROM:-0700
TZOFFSETTO:-0600
TZNAME:MDT
DTSTART:20240310T090000
END:DAYLIGHT
BEGIN:STANDARD
TZOFFSETFROM:-0600
TZOFFSETTO:-0700
TZNAME:MST
DTSTART:20241103T080000
END:STANDARD
BEGIN:DAYLIGHT
TZOFFSETFROM:-0700
TZOFFSETTO:-0600
TZNAME:MDT
DTSTART:20250309T090000
END:DAYLIGHT
BEGIN:STANDARD
TZOFFSETFROM:-0600
TZOFFSETTO:-0700
TZNAME:MST
DTSTART:20251102T080000
END:STANDARD
END:VTIMEZONE
BEGIN:VEVENT
DTSTART;TZID=America/Denver:20241212T080000
DTEND;TZID=America/Denver:20241213T170000
DTSTAMP:20260419T175500
CREATED:20240927T094347Z
LAST-MODIFIED:20240927T094347Z
UID:10000595-1733990400-1734109200@calfia.org
SUMMARY:Savage Training Group: Practical De-Escalation and Tactical Conduct
DESCRIPTION:
URL:https://calfia.org/event/savage-training-group-practical-de-escalation-and-tactical-conduct/
LOCATION:High Intensity Drug Trafficking Areas HQ\, 9665 Granite Ridge Drive suite 100\, San Diego\, CA\, 92123\, United States
END:VEVENT
BEGIN:VEVENT
DTSTART;TZID=America/Denver:20241118T080000
DTEND;TZID=America/Denver:20241118T170000
DTSTAMP:20260419T175500
CREATED:20240927T100109Z
LAST-MODIFIED:20240927T100109Z
UID:10000602-1731916800-1731949200@calfia.org
SUMMARY:Savage Training Group: Response to the Non-Criminal Barricade: Disengagement & Special Relationships
DESCRIPTION:
URL:https://calfia.org/event/savage-training-group-response-to-the-non-criminal-barricade-disengagement-special-relationships/
LOCATION:High Intensity Drug Trafficking Areas HQ\, 9665 Granite Ridge Drive suite 100\, San Diego\, CA\, 92123\, United States
END:VEVENT
BEGIN:VEVENT
DTSTART;TZID=America/Denver:20240429T080000
DTEND;TZID=America/Denver:20240429T170000
DTSTAMP:20260419T175500
CREATED:20240207T053857Z
LAST-MODIFIED:20240207T053858Z
UID:10000567-1714377600-1714410000@calfia.org
SUMMARY:Use of Force Analysis for Law Enforcement Managers - Savage Training Group
DESCRIPTION:
URL:https://calfia.org/event/use-of-force-analysis-for-law-enforcement-managers-savage-training-group/
LOCATION:High Intensity Drug Trafficking Areas HQ\, 9665 Granite Ridge Drive suite 100\, San Diego\, CA\, 92123\, United States
END:VEVENT
BEGIN:VEVENT
DTSTART;TZID=America/Denver:20240318T080000
DTEND;TZID=America/Denver:20240319T170000
DTSTAMP:20260419T175500
CREATED:20240207T054445Z
LAST-MODIFIED:20240207T054445Z
UID:10000569-1710748800-1710867600@calfia.org
SUMMARY:Practical De-Escalation and Tactical Conduct - Savage Training Group
DESCRIPTION:
URL:https://calfia.org/event/practical-de-escalation-and-tactical-conduct-savage-training-group/
LOCATION:High Intensity Drug Trafficking Areas HQ\, 9665 Granite Ridge Drive suite 100\, San Diego\, CA\, 92123\, United States
END:VEVENT
END:VCALENDAR