BEGIN:VCALENDAR
VERSION:2.0
PRODID:-//California Force Instructors&#039; Association - ECPv6.15.20//NONSGML v1.0//EN
CALSCALE:GREGORIAN
METHOD:PUBLISH
X-WR-CALNAME:California Force Instructors&#039; Association
X-ORIGINAL-URL:https://calfia.org
X-WR-CALDESC:Events for California Force Instructors&#039; Association
REFRESH-INTERVAL;VALUE=DURATION:PT1H
X-Robots-Tag:noindex
X-PUBLISHED-TTL:PT1H
BEGIN:VTIMEZONE
TZID:America/Denver
BEGIN:DAYLIGHT
TZOFFSETFROM:-0700
TZOFFSETTO:-0600
TZNAME:MDT
DTSTART:20220313T090000
END:DAYLIGHT
BEGIN:STANDARD
TZOFFSETFROM:-0600
TZOFFSETTO:-0700
TZNAME:MST
DTSTART:20221106T080000
END:STANDARD
BEGIN:DAYLIGHT
TZOFFSETFROM:-0700
TZOFFSETTO:-0600
TZNAME:MDT
DTSTART:20230312T090000
END:DAYLIGHT
BEGIN:STANDARD
TZOFFSETFROM:-0600
TZOFFSETTO:-0700
TZNAME:MST
DTSTART:20231105T080000
END:STANDARD
BEGIN:DAYLIGHT
TZOFFSETFROM:-0700
TZOFFSETTO:-0600
TZNAME:MDT
DTSTART:20240310T090000
END:DAYLIGHT
BEGIN:STANDARD
TZOFFSETFROM:-0600
TZOFFSETTO:-0700
TZNAME:MST
DTSTART:20241103T080000
END:STANDARD
BEGIN:DAYLIGHT
TZOFFSETFROM:-0700
TZOFFSETTO:-0600
TZNAME:MDT
DTSTART:20250309T090000
END:DAYLIGHT
BEGIN:STANDARD
TZOFFSETFROM:-0600
TZOFFSETTO:-0700
TZNAME:MST
DTSTART:20251102T080000
END:STANDARD
BEGIN:DAYLIGHT
TZOFFSETFROM:-0700
TZOFFSETTO:-0600
TZNAME:MDT
DTSTART:20260308T090000
END:DAYLIGHT
BEGIN:STANDARD
TZOFFSETFROM:-0600
TZOFFSETTO:-0700
TZNAME:MST
DTSTART:20261101T080000
END:STANDARD
END:VTIMEZONE
BEGIN:VEVENT
DTSTART;TZID=America/Denver:20250806T080000
DTEND;TZID=America/Denver:20250808T170000
DTSTAMP:20260419T194007
CREATED:20250426T060133Z
LAST-MODIFIED:20250717T034012Z
UID:10000635-1754467200-1754672400@calfia.org
SUMMARY:CALFIA 2025 Use of Force Conference
DESCRIPTION:
URL:https://calfia.org/event/calfia-2025-use-of-force-conference/
LOCATION:Napa Valley College\, 2277 Napa Vallejo Hwy.\, Napa\, CA\, 94558\, United States
ORGANIZER;CN="CALFIA":MAILTO:Calfia31@gmail.com
END:VEVENT
BEGIN:VEVENT
DTSTART;TZID=America/Denver:20250106T080000
DTEND;TZID=America/Denver:20250117T170000
DTSTAMP:20260419T194007
CREATED:20241011T161211Z
LAST-MODIFIED:20241011T161211Z
UID:10000605-1736150400-1737133200@calfia.org
SUMMARY:Arrest and Control Instructor School In Napa 01/06/2025 - 01/17/2025
DESCRIPTION:
URL:https://calfia.org/event/arrest-and-control-instructor-school-in-napa-01-06-2025-01-17-2025/
LOCATION:Napa Valley College\, 2277 Napa Vallejo Hwy.\, Napa\, CA\, 94558\, United States
END:VEVENT
BEGIN:VEVENT
DTSTART;TZID=America/Denver:20240617T080000
DTEND;TZID=America/Denver:20240628T170000
DTSTAMP:20260419T194007
CREATED:20240416T122025Z
LAST-MODIFIED:20240416T122025Z
UID:10000580-1718611200-1719594000@calfia.org
SUMMARY:Arrest and Control Instructor Course at the Napa Valley College
DESCRIPTION:
URL:https://calfia.org/event/arrest-and-control-instructor-course-at-the-napa-valley-college/
LOCATION:Napa Valley College\, 2277 Napa Vallejo Hwy.\, Napa\, CA\, 94558\, United States
END:VEVENT
BEGIN:VEVENT
DTSTART;VALUE=DATE:20240227
DTEND;VALUE=DATE:20240229
DTSTAMP:20260419T194007
CREATED:20240206T051809Z
LAST-MODIFIED:20240206T051810Z
UID:10000547-1708992000-1709164799@calfia.org
SUMMARY:Expandable Baton Instructor Course from Peacekeeper Products International\, LLC
DESCRIPTION:
URL:https://calfia.org/event/expandable-baton-instructor-course-from-peacekeeper-products-international-llc-2/
LOCATION:Napa Valley College\, 2277 Napa Vallejo Hwy.\, Napa\, CA\, 94558\, United States
END:VEVENT
BEGIN:VEVENT
DTSTART;TZID=America/Denver:20230922T080000
DTEND;TZID=America/Denver:20230923T170000
DTSTAMP:20260419T194007
CREATED:20230507T025610Z
LAST-MODIFIED:20230523T204359Z
UID:10000004-1695369600-1695488400@calfia.org
SUMMARY:Reserve Your Seat For The 2023 Symposium Today
DESCRIPTION:
URL:https://calfia.org/event/reserve-your-seat-for-the-2023-symposium-today/
LOCATION:Napa Valley College\, 2277 Napa Vallejo Hwy.\, Napa\, CA\, 94558\, United States
ORGANIZER;CN="California Force Instructors' Association":MAILTO:calfia31@gmail.com
END:VEVENT
END:VCALENDAR