BEGIN:VCALENDAR
VERSION:2.0
PRODID:-//California Force Instructors&#039; Association - ECPv6.15.20//NONSGML v1.0//EN
CALSCALE:GREGORIAN
METHOD:PUBLISH
X-ORIGINAL-URL:https://calfia.org
X-WR-CALDESC:Events for California Force Instructors&#039; Association
REFRESH-INTERVAL;VALUE=DURATION:PT1H
X-Robots-Tag:noindex
X-PUBLISHED-TTL:PT1H
BEGIN:VTIMEZONE
TZID:America/Denver
BEGIN:DAYLIGHT
TZOFFSETFROM:-0700
TZOFFSETTO:-0600
TZNAME:MDT
DTSTART:20230312T090000
END:DAYLIGHT
BEGIN:STANDARD
TZOFFSETFROM:-0600
TZOFFSETTO:-0700
TZNAME:MST
DTSTART:20231105T080000
END:STANDARD
BEGIN:DAYLIGHT
TZOFFSETFROM:-0700
TZOFFSETTO:-0600
TZNAME:MDT
DTSTART:20240310T090000
END:DAYLIGHT
BEGIN:STANDARD
TZOFFSETFROM:-0600
TZOFFSETTO:-0700
TZNAME:MST
DTSTART:20241103T080000
END:STANDARD
BEGIN:DAYLIGHT
TZOFFSETFROM:-0700
TZOFFSETTO:-0600
TZNAME:MDT
DTSTART:20250309T090000
END:DAYLIGHT
BEGIN:STANDARD
TZOFFSETFROM:-0600
TZOFFSETTO:-0700
TZNAME:MST
DTSTART:20251102T080000
END:STANDARD
END:VTIMEZONE
BEGIN:VEVENT
DTSTART;TZID=America/Denver:20240304T080000
DTEND;TZID=America/Denver:20240304T170000
DTSTAMP:20260420T013933
CREATED:20240128T230517Z
LAST-MODIFIED:20240206T052111Z
UID:10000563-1709539200-1709571600@calfia.org
SUMMARY:Effective Police Training Class from the Savage Training Group
DESCRIPTION:
URL:https://calfia.org/event/effective-police-training-class-from-the-savage-training-group/
LOCATION:Newport Coast Community Center\, 6401 San Joaquin Hills Road\, Newport Beach\, CA\, 94560\, United States
END:VEVENT
END:VCALENDAR