BEGIN:VCALENDAR
VERSION:2.0
PRODID:-//California Force Instructors&#039; Association - ECPv6.15.20//NONSGML v1.0//EN
CALSCALE:GREGORIAN
METHOD:PUBLISH
X-ORIGINAL-URL:https://calfia.org
X-WR-CALDESC:Events for California Force Instructors&#039; Association
REFRESH-INTERVAL;VALUE=DURATION:PT1H
X-Robots-Tag:noindex
X-PUBLISHED-TTL:PT1H
BEGIN:VTIMEZONE
TZID:America/Denver
BEGIN:DAYLIGHT
TZOFFSETFROM:-0700
TZOFFSETTO:-0600
TZNAME:MDT
DTSTART:20230312T090000
END:DAYLIGHT
BEGIN:STANDARD
TZOFFSETFROM:-0600
TZOFFSETTO:-0700
TZNAME:MST
DTSTART:20231105T080000
END:STANDARD
BEGIN:DAYLIGHT
TZOFFSETFROM:-0700
TZOFFSETTO:-0600
TZNAME:MDT
DTSTART:20240310T090000
END:DAYLIGHT
BEGIN:STANDARD
TZOFFSETFROM:-0600
TZOFFSETTO:-0700
TZNAME:MST
DTSTART:20241103T080000
END:STANDARD
BEGIN:DAYLIGHT
TZOFFSETFROM:-0700
TZOFFSETTO:-0600
TZNAME:MDT
DTSTART:20250309T090000
END:DAYLIGHT
BEGIN:STANDARD
TZOFFSETFROM:-0600
TZOFFSETTO:-0700
TZNAME:MST
DTSTART:20251102T080000
END:STANDARD
END:VTIMEZONE
BEGIN:VEVENT
DTSTART;TZID=America/Denver:20240426T080000
DTEND;TZID=America/Denver:20240426T170000
DTSTAMP:20260420T014603
CREATED:20240207T054638Z
LAST-MODIFIED:20240207T054639Z
UID:10000570-1714118400-1714150800@calfia.org
SUMMARY:Response to the Non-Criminal Barricade: Disengagement & Special Relationships
DESCRIPTION:
URL:https://calfia.org/event/response-to-the-non-criminal-barricade-disengagement-special-relationships/
LOCATION:San Pablo Police Department\, 2300 El Portal Dr\, Suite C\, San Pablo\, Ca\, CA\, 94803\, United States
END:VEVENT
BEGIN:VEVENT
DTSTART;TZID=America/Denver:20240129T080000
DTEND;TZID=America/Denver:20240129T170000
DTSTAMP:20260420T014603
CREATED:20240101T111337Z
LAST-MODIFIED:20240101T111337Z
UID:10000558-1706515200-1706547600@calfia.org
SUMMARY:Savage Training Group - Patrol Survival Tactics
DESCRIPTION:
URL:https://calfia.org/event/savage-training-group-patrol-survival-tactics/
LOCATION:San Pablo Police Department\, 2300 El Portal Dr\, Suite C\, San Pablo\, Ca\, CA\, 94803\, United States
END:VEVENT
END:VCALENDAR