BEGIN:VCALENDAR
VERSION:2.0
PRODID:-//California Force Instructors&#039; Association - ECPv6.15.20//NONSGML v1.0//EN
CALSCALE:GREGORIAN
METHOD:PUBLISH
X-ORIGINAL-URL:https://calfia.org
X-WR-CALDESC:Events for California Force Instructors&#039; Association
REFRESH-INTERVAL;VALUE=DURATION:PT1H
X-Robots-Tag:noindex
X-PUBLISHED-TTL:PT1H
BEGIN:VTIMEZONE
TZID:America/Denver
BEGIN:DAYLIGHT
TZOFFSETFROM:-0700
TZOFFSETTO:-0600
TZNAME:MDT
DTSTART:20240310T090000
END:DAYLIGHT
BEGIN:STANDARD
TZOFFSETFROM:-0600
TZOFFSETTO:-0700
TZNAME:MST
DTSTART:20241103T080000
END:STANDARD
BEGIN:DAYLIGHT
TZOFFSETFROM:-0700
TZOFFSETTO:-0600
TZNAME:MDT
DTSTART:20250309T090000
END:DAYLIGHT
BEGIN:STANDARD
TZOFFSETFROM:-0600
TZOFFSETTO:-0700
TZNAME:MST
DTSTART:20251102T080000
END:STANDARD
BEGIN:DAYLIGHT
TZOFFSETFROM:-0700
TZOFFSETTO:-0600
TZNAME:MDT
DTSTART:20260308T090000
END:DAYLIGHT
BEGIN:STANDARD
TZOFFSETFROM:-0600
TZOFFSETTO:-0700
TZNAME:MST
DTSTART:20261101T080000
END:STANDARD
END:VTIMEZONE
BEGIN:VEVENT
DTSTART;TZID=America/Denver:20251007T080000
DTEND;TZID=America/Denver:20251008T170000
DTSTAMP:20260419T122457
CREATED:20250716T110141Z
LAST-MODIFIED:20250716T110141Z
UID:10001176-1759824000-1759942800@calfia.org
SUMMARY:Practical De-Escalation and Tactical Conduct by Savage Training Group in Santa Clarita\, CA 10/7 – 10/8
DESCRIPTION:
URL:https://calfia.org/event/practical-de-escalation-and-tactical-conduct-by-savage-training-group-in-santa-clarita-ca-10-7-10-8/
LOCATION:Santa Clarita Sheriff’s Office\, 26201 Golden Valley Road\, Santa Clarita\, CA\, 91350\, United States
END:VEVENT
END:VCALENDAR