BEGIN:VCALENDAR
VERSION:2.0
PRODID:-//California Force Instructors&#039; Association - ECPv6.15.20//NONSGML v1.0//EN
CALSCALE:GREGORIAN
METHOD:PUBLISH
X-ORIGINAL-URL:https://calfia.org
X-WR-CALDESC:Events for California Force Instructors&#039; Association
REFRESH-INTERVAL;VALUE=DURATION:PT1H
X-Robots-Tag:noindex
X-PUBLISHED-TTL:PT1H
BEGIN:VTIMEZONE
TZID:America/Denver
BEGIN:DAYLIGHT
TZOFFSETFROM:-0700
TZOFFSETTO:-0600
TZNAME:MDT
DTSTART:20240310T090000
END:DAYLIGHT
BEGIN:STANDARD
TZOFFSETFROM:-0600
TZOFFSETTO:-0700
TZNAME:MST
DTSTART:20241103T080000
END:STANDARD
BEGIN:DAYLIGHT
TZOFFSETFROM:-0700
TZOFFSETTO:-0600
TZNAME:MDT
DTSTART:20250309T090000
END:DAYLIGHT
BEGIN:STANDARD
TZOFFSETFROM:-0600
TZOFFSETTO:-0700
TZNAME:MST
DTSTART:20251102T080000
END:STANDARD
BEGIN:DAYLIGHT
TZOFFSETFROM:-0700
TZOFFSETTO:-0600
TZNAME:MDT
DTSTART:20260308T090000
END:DAYLIGHT
BEGIN:STANDARD
TZOFFSETFROM:-0600
TZOFFSETTO:-0700
TZNAME:MST
DTSTART:20261101T080000
END:STANDARD
BEGIN:DAYLIGHT
TZOFFSETFROM:-0700
TZOFFSETTO:-0600
TZNAME:MDT
DTSTART:20270314T090000
END:DAYLIGHT
BEGIN:STANDARD
TZOFFSETFROM:-0600
TZOFFSETTO:-0700
TZNAME:MST
DTSTART:20271107T080000
END:STANDARD
END:VTIMEZONE
BEGIN:VEVENT
DTSTART;TZID=America/Denver:20260324T080000
DTEND;TZID=America/Denver:20260325T170000
DTSTAMP:20260419T160530
CREATED:20260125T202009Z
LAST-MODIFIED:20260125T202009Z
UID:10001213-1774339200-1774458000@calfia.org
SUMMARY:CCW Conference in Solano County
DESCRIPTION:
URL:https://calfia.org/event/ccw-conference-in-solano-county/
LOCATION:Solano County Sheriff’s Office\, 620 Orange DRive\, Vacaville\, CA\, 94533\, United States
END:VEVENT
BEGIN:VEVENT
DTSTART;TZID=America/Denver:20260323T080000
DTEND;TZID=America/Denver:20260323T170000
DTSTAMP:20260419T160531
CREATED:20260125T202356Z
LAST-MODIFIED:20260125T202356Z
UID:10001214-1774252800-1774285200@calfia.org
SUMMARY:CA Gun Laws Course
DESCRIPTION:
URL:https://calfia.org/event/ca-gun-laws-course/
LOCATION:Solano County Sheriff’s Office\, 620 Orange DRive\, Vacaville\, CA\, 94533\, United States
END:VEVENT
BEGIN:VEVENT
DTSTART;TZID=America/Denver:20251022T080000
DTEND;TZID=America/Denver:20251022T170000
DTSTAMP:20260419T160531
CREATED:20250623T104043Z
LAST-MODIFIED:20250623T104043Z
UID:10000647-1761120000-1761152400@calfia.org
SUMMARY:Use of Force Report Writing and Testifying with CALFIA General Counsel David Demurjian
DESCRIPTION:
URL:https://calfia.org/event/use-of-force-report-writing-and-testifying-with-calfia-general-counsel-david-demurjian/
LOCATION:Solano County Sheriff’s Office\, 620 Orange DRive\, Vacaville\, CA\, 94533\, United States
END:VEVENT
BEGIN:VEVENT
DTSTART;TZID=America/Denver:20250929T080000
DTEND;TZID=America/Denver:20251001T170000
DTSTAMP:20260419T160531
CREATED:20250616T052032Z
LAST-MODIFIED:20250902T073345Z
UID:10000646-1759132800-1759338000@calfia.org
SUMMARY:Force Encounters Analysis
DESCRIPTION:
URL:https://calfia.org/event/force-encounters-analysis/
LOCATION:Solano County Sheriff’s Office\, 620 Orange DRive\, Vacaville\, CA\, 94533\, United States
END:VEVENT
BEGIN:VEVENT
DTSTART;TZID=America/Denver:20250326T080000
DTEND;TZID=America/Denver:20250326T100000
DTSTAMP:20260419T160531
CREATED:20250303T090113Z
LAST-MODIFIED:20250303T090113Z
UID:10000623-1742976000-1742983200@calfia.org
SUMMARY:POST SB2 Decertification Course
DESCRIPTION:
URL:https://calfia.org/event/post-sb2-decertification-course/
LOCATION:Solano County Sheriff’s Office\, 620 Orange DRive\, Vacaville\, CA\, 94533\, United States
END:VEVENT
END:VCALENDAR