BEGIN:VCALENDAR
VERSION:2.0
PRODID:-//California Force Instructors&#039; Association - ECPv6.15.20//NONSGML v1.0//EN
CALSCALE:GREGORIAN
METHOD:PUBLISH
X-WR-CALNAME:California Force Instructors&#039; Association
X-ORIGINAL-URL:https://calfia.org
X-WR-CALDESC:Events for California Force Instructors&#039; Association
REFRESH-INTERVAL;VALUE=DURATION:PT1H
X-Robots-Tag:noindex
X-PUBLISHED-TTL:PT1H
BEGIN:VTIMEZONE
TZID:America/Denver
BEGIN:DAYLIGHT
TZOFFSETFROM:-0700
TZOFFSETTO:-0600
TZNAME:MDT
DTSTART:20230312T090000
END:DAYLIGHT
BEGIN:STANDARD
TZOFFSETFROM:-0600
TZOFFSETTO:-0700
TZNAME:MST
DTSTART:20231105T080000
END:STANDARD
BEGIN:DAYLIGHT
TZOFFSETFROM:-0700
TZOFFSETTO:-0600
TZNAME:MDT
DTSTART:20240310T090000
END:DAYLIGHT
BEGIN:STANDARD
TZOFFSETFROM:-0600
TZOFFSETTO:-0700
TZNAME:MST
DTSTART:20241103T080000
END:STANDARD
BEGIN:DAYLIGHT
TZOFFSETFROM:-0700
TZOFFSETTO:-0600
TZNAME:MDT
DTSTART:20250309T090000
END:DAYLIGHT
BEGIN:STANDARD
TZOFFSETFROM:-0600
TZOFFSETTO:-0700
TZNAME:MST
DTSTART:20251102T080000
END:STANDARD
END:VTIMEZONE
BEGIN:VEVENT
DTSTART;TZID=America/Denver:20240210T100000
DTEND;TZID=America/Denver:20240210T120000
DTSTAMP:20260420T065148
CREATED:20240206T073738Z
LAST-MODIFIED:20240206T073739Z
UID:10000566-1707559200-1707566400@calfia.org
SUMMARY:Warrior Brazilian Jiu Jitsu First Responder Open Mat
DESCRIPTION:
URL:https://calfia.org/event/warrior-brazilian-jiu-jitsu-first-responder-open-mat/
LOCATION:Warrior Braziliain Jiu Jitsu\, 2001 Omega Road: Unit 200\, San Ramon\, CA\, 94583\, United States
END:VEVENT
END:VCALENDAR